BEGIN:VCALENDAR
VERSION:2.0
PRODID:-//ChamberMaster//Event Calendar 2.0//EN
METHOD:PUBLISH
X-PUBLISHED-TTL:P3D
REFRESH-INTERVAL:P3D
CALSCALE:GREGORIAN
BEGIN:VEVENT
DTSTART:20200527T150000Z
DTEND:20200527T160000Z
X-MICROSOFT-CDO-ALLDAYEVENT:FALSE
SUMMARY:Managing Business Within a Constantly Evolving New Reality
DESCRIPTION:Complete and utter disruption has been thrusted upon our lives.  As we deal with a New Reality that is constantly evolving with every minute of every hour of each day\, maintaining focus can be challenging not knowing what is changing within the world of business or how long it will last.  For many\, survival is at the forefront of our minds.  The stability and predictability of Business as Usual has vanished.  And just as Hope is not a Strategy\, nor is Panic.  This session will focus on:\n\n\n\n	Identifying what is in your control and what is not\n	Focusing on what is needed immediately\n	Brainstorming beyond survival to recovery
X-ALT-DESC;FMTTYPE=text/html:<div style="margin: 0px\; padding: 0px\; font-family: Arial\, Helvetica\, sans-serif\; font-size: 12px\; background-color: rgb(228\, 228\, 227)\;">\n<div style="margin: 0px\; padding: 0px\; font-family: Arial\, Helvetica\, sans-serif\; font-size: 12px\; background-color: rgb(228\, 228\, 227)\;">\n<div style="margin: 0px\; padding: 0px\; font-family: Arial\, Helvetica\, sans-serif\; font-size: 12px\; background-color: rgb(228\, 228\, 227)\;">\n<div style="margin: 0px\; padding: 0px\; font-family: Arial\, Helvetica\, sans-serif\; font-size: 12px\; background-color: rgb(228\, 228\, 227)\;">Complete and utter disruption has been thrusted upon our lives.&nbsp\; As we deal with a New Reality that is constantly evolving with every minute of every hour of each day\, maintaining focus can be challenging not knowing what is changing within the world of business or how long it will last.&nbsp\; For many\, survival is at the forefront of our minds.&nbsp\; The stability and predictability of Business as Usual has vanished.&nbsp\; And just as Hope is not a Strategy\, nor is Panic.&nbsp\; This session will focus on:</div>\n\n<div style="margin: 0px\; padding: 0px\; font-family: Arial\, Helvetica\, sans-serif\; font-size: 12px\; background-color: rgb(228\, 228\, 227)\;">\n<ul style="margin: 18px 0px 18px 18px\; padding-right: 0px\; padding-left: 0px\; list-style-position: outside\; list-style-image: initial\;">\n	<li style="margin: 0px\; padding: 0px\;">Identifying what is in your control and what is not</li>\n	<li style="margin: 0px\; padding: 0px\;">Focusing on what is needed immediately</li>\n	<li style="margin: 0px\; padding: 0px\;">Brainstorming beyond survival to recovery</li>\n</ul>\n</div>\n</div>\n</div>\n</div>\n
LOCATION:
UID:e.554.4535
SEQUENCE:3
DTSTAMP:20260419T155146Z
URL:https://business.greaterlowellcc.org/events/details/managing-business-within-a-constantly-evolving-new-reality-4535
END:VEVENT

END:VCALENDAR
