BEGIN:VCALENDAR
VERSION:2.0
PRODID:-//ChamberMaster//Event Calendar 2.0//EN
METHOD:PUBLISH
X-PUBLISHED-TTL:P3D
REFRESH-INTERVAL:P3D
CALSCALE:GREGORIAN
BEGIN:VEVENT
DTSTART:20200519T123000Z
DTEND:20200519T133000Z
X-MICROSOFT-CDO-ALLDAYEVENT:FALSE
SUMMARY:Manage and Capitalize on Change in Order to Thrive brought to you by Chamber EDGE
DESCRIPTION:The uncertainty that comes with change can create heightened anxiety\, fear\, and chaos. However\, it's the individuals and organizations that use this time to shift with the disruption that will come out ahead. Instead of looking at uncertainty as a time to hold back and be fearful\, you can use change as the fuel to propel you on a path to opportunity and growth.\n\n \n\nDuring this 60 min interactive webinar\, you will comprehend the process to manage and capitalize on change to move forward and thrive.\n\n \n\nKEY TAKEAWAYS:\n\n- Understand the different stages of change.\n\n- Gain self-awareness of your resilience to disruption.\n\n- Learn practical strategies and techniques to capitalize on change as a catalyst for opportunity and growth.\n\n\n\nPresented by Ilhiana Rojas\, CPC
X-ALT-DESC;FMTTYPE=text/html:<div style="margin: 0px\; padding: 0px\; border: 0px\; font-variant-numeric: inherit\; font-variant-east-asian: inherit\; font-stretch: inherit\; font-size: 15px\; line-height: inherit\; font-family: &quot\;Segoe UI&quot\;\, &quot\;Segoe UI Web (West European)&quot\;\, &quot\;Segoe UI&quot\;\, -apple-system\, system-ui\, Roboto\, &quot\;Helvetica Neue&quot\;\, sans-serif\; vertical-align: baseline\; color: rgb(32\, 31\, 30)\;"><span style="color:#000000\;"><i><span style="margin: 0px\; padding: 0px\; border: 0px\; font: inherit\; vertical-align: baseline\;">The uncertainty that comes with change can create heightened anxiety\, fear\, and chaos. However\, it&#39\;s the individuals and organizations that use this time to shift with the disruption that will come out ahead. Instead of looking at uncertainty as a time to hold back and be fearful\, you can use change as the fuel to propel you on a path to opportunity and growth.</span></i></span></div>\n\n<div style="margin: 0px\; padding: 0px\; border: 0px\; font-variant-numeric: inherit\; font-variant-east-asian: inherit\; font-stretch: inherit\; font-size: 15px\; line-height: inherit\; font-family: &quot\;Segoe UI&quot\;\, &quot\;Segoe UI Web (West European)&quot\;\, &quot\;Segoe UI&quot\;\, -apple-system\, system-ui\, Roboto\, &quot\;Helvetica Neue&quot\;\, sans-serif\; vertical-align: baseline\; color: rgb(32\, 31\, 30)\;"><span style="color:#000000\;"><i><span style="margin: 0px\; padding: 0px\; border: 0px\; font: inherit\; vertical-align: baseline\;">&nbsp\;</span></i></span></div>\n\n<div style="margin: 0px\; padding: 0px\; border: 0px\; font-variant-numeric: inherit\; font-variant-east-asian: inherit\; font-stretch: inherit\; font-size: 15px\; line-height: inherit\; font-family: &quot\;Segoe UI&quot\;\, &quot\;Segoe UI Web (West European)&quot\;\, &quot\;Segoe UI&quot\;\, -apple-system\, system-ui\, Roboto\, &quot\;Helvetica Neue&quot\;\, sans-serif\; vertical-align: baseline\; color: rgb(32\, 31\, 30)\;"><span style="color:#000000\;"><i><span style="margin: 0px\; padding: 0px\; border: 0px\; font: inherit\; vertical-align: baseline\;">During this 60 min interactive webinar\, you will comprehend the process to manage and capitalize on change to move forward and thrive.</span></i></span><br />\n&nbsp\;</div>\n\n<div style="margin: 0px\; padding: 0px\; border: 0px\; font-variant-numeric: inherit\; font-variant-east-asian: inherit\; font-stretch: inherit\; font-size: 15px\; line-height: inherit\; font-family: &quot\;Segoe UI&quot\;\, &quot\;Segoe UI Web (West European)&quot\;\, &quot\;Segoe UI&quot\;\, -apple-system\, system-ui\, Roboto\, &quot\;Helvetica Neue&quot\;\, sans-serif\; vertical-align: baseline\; color: rgb(32\, 31\, 30)\;"><span style="color:#000000\;"><i><span style="margin: 0px\; padding: 0px\; border: 0px\; font: inherit\; vertical-align: baseline\;">KEY TAKEAWAYS:</span></i></span></div>\n\n<div style="margin: 0px 0px 0px 27pt\; padding: 0px\; border: 0px\; font-variant-numeric: inherit\; font-variant-east-asian: inherit\; font-stretch: inherit\; font-size: 11pt\; line-height: inherit\; font-family: Calibri\, sans-serif\; vertical-align: middle\; color: rgb(32\, 31\, 30)\;"><span style="color:#000000\;"><i><span style="margin: 0px\; padding: 0px\; border: 0px\; font: inherit\; vertical-align: baseline\;">- Understand the different stages of change.</span></i></span></div>\n\n<div style="margin: 0px 0px 0px 27pt\; padding: 0px\; border: 0px\; font-variant-numeric: inherit\; font-variant-east-asian: inherit\; font-stretch: inherit\; font-size: 11pt\; line-height: inherit\; font-family: Calibri\, sans-serif\; vertical-align: middle\; color: rgb(32\, 31\, 30)\;"><span style="color:#000000\;"><i><span style="margin: 0px\; padding: 0px\; border: 0px\; font: inherit\; vertical-align: baseline\;">- Gain self-awareness of your resilience to disruption.</span></i></span></div>\n\n<div style="margin: 0px 0px 0px 27pt\; padding: 0px\; border: 0px\; font-variant-numeric: inherit\; font-variant-east-asian: inherit\; font-stretch: inherit\; font-size: 11pt\; line-height: inherit\; font-family: Calibri\, sans-serif\; vertical-align: middle\; color: rgb(32\, 31\, 30)\;"><span style="color:#000000\;"><i><span style="margin: 0px\; padding: 0px\; border: 0px\; font: inherit\; vertical-align: baseline\;">- Learn practical strategies and techniques to capitalize on change as a catalyst for opportunity and growth.<br />\n<br />\nPresented by&nbsp\;</span></i><a href="https://www.belivecoachingandconsulting.com/"><span style="font-family: &quot\;Segoe UI&quot\;\, &quot\;Segoe UI Web (West European)&quot\;\, &quot\;Segoe UI&quot\;\, -apple-system\, system-ui\, Roboto\, &quot\;Helvetica Neue&quot\;\, sans-serif\; font-size: 15px\;">Ilhiana Rojas\, CPC</span></a></span></div>\n
LOCATION:Zoom link will be added soon.
UID:e.554.4528
SEQUENCE:3
DTSTAMP:20260419T145644Z
URL:https://business.greaterlowellcc.org/events/details/manage-and-capitalize-on-change-in-order-to-thrive-brought-to-you-by-chamber-edge-4528
END:VEVENT

END:VCALENDAR
