BEGIN:VCALENDAR
VERSION:2.0
PRODID:-//ChamberMaster//Event Calendar 2.0//EN
METHOD:PUBLISH
X-PUBLISHED-TTL:P3D
REFRESH-INTERVAL:P3D
CALSCALE:GREGORIAN
BEGIN:VEVENT
DTSTART:20200728T140000Z
DTEND:20200728T150000Z
X-MICROSOFT-CDO-ALLDAYEVENT:FALSE
SUMMARY:MACCE Industry Roundtable: Gyms/Fitness Studios
DESCRIPTION:Please join the Massachusetts Association of Chamber of Commerce Executives (MACCE) for this industry-specific roundtable specifically for gyms and fitness studios. This is a great opportunity to virtually connect with other facilities throughout the Commonwealth of Massachusetts during this unprecedented time. Join us to ask questions\, share ideas\, and collaborate with other gyms and fitness studios you may never otherwise have had the opportunity to meet! \n\n\n\n \n\nThis is also a great opportunity for Chambers of Commerce throughout the State to listen to your current struggles and successes so we can better serve you. \n\n\n\n \n\nThis event is open to all Chambers of Commerce that are members are MACCE and the members of their Chamber.  \n\n \n\nGLCC President/CEO\, Danielle McFadden\, currently serves as the proud President of MACCE.
X-ALT-DESC;FMTTYPE=text/html:<div style="margin: 0px\; padding: 0px\; border: 0px\; font-variant-numeric: inherit\; font-variant-east-asian: inherit\; font-stretch: inherit\; font-size: 12px\; line-height: inherit\; font-family: &quot\;Segoe UI&quot\;\, &quot\;Segoe UI Web&quot\;\, Arial\, Verdana\, sans-serif\; vertical-align: baseline\; color: rgb(0\, 0\, 0)\; clear: both\;">\n<p lang="EN-US" style="margin: 0px\; color: windowtext\;"><span lang="EN-US" style="margin: 0px\; padding: 0px\; border: 0px\; font-style: inherit\; font-variant-ligatures: none !important\; font-variant-caps: inherit\; font-variant-numeric: inherit\; font-variant-east-asian: inherit\; font-weight: inherit\; font-stretch: inherit\; font-size: 11pt\; line-height: 19.425px\; font-family: Calibri\, Calibri_EmbeddedFont\, Calibri_MSFontService\, sans-serif\; vertical-align: baseline\; color: inherit\; font-kerning: none\;"><span style="margin: 0px\; padding: 0px\; border: 0px\; font: inherit\; vertical-align: baseline\; color: inherit\;">Please join the <a href="http://www.macce.org/">Massachusetts Association of Chamber of Commerce Executives</a>&nbsp\;(MACCE) for this industry-specific roundtable<span style="margin: 0px\; padding: 0px\; border: 0px\; font: inherit\; vertical-align: baseline\; color: inherit\;">&nbsp\;</span></span></span><span lang="EN-US" style="margin: 0px\; padding: 0px\; border: 0px\; font-style: inherit\; font-variant-ligatures: none !important\; font-variant-caps: inherit\; font-variant-numeric: inherit\; font-variant-east-asian: inherit\; font-weight: inherit\; font-stretch: inherit\; font-size: 11pt\; line-height: 19.425px\; font-family: Calibri\, Calibri_EmbeddedFont\, Calibri_MSFontService\, sans-serif\; vertical-align: baseline\; color: inherit\; font-kerning: none\;"><span style="margin: 0px\; padding: 0px\; border: 0px\; font: inherit\; vertical-align: baseline\; color: inherit\;">specifically for</span></span><span lang="EN-US" style="margin: 0px\; padding: 0px\; border: 0px\; font-style: inherit\; font-variant-ligatures: none !important\; font-variant-caps: inherit\; font-variant-numeric: inherit\; font-variant-east-asian: inherit\; font-weight: inherit\; font-stretch: inherit\; font-size: 11pt\; line-height: 19.425px\; font-family: Calibri\, Calibri_EmbeddedFont\, Calibri_MSFontService\, sans-serif\; vertical-align: baseline\; color: inherit\; font-kerning: none\;"><span style="margin: 0px\; padding: 0px\; border: 0px\; font: inherit\; vertical-align: baseline\; color: inherit\;"><span style="margin: 0px\; padding: 0px\; border: 0px\; font: inherit\; vertical-align: baseline\; color: inherit\;">&nbsp\;gyms and fitness studios</span></span></span><span lang="EN-US" style="margin: 0px\; padding: 0px\; border: 0px\; font-style: inherit\; font-variant-ligatures: none !important\; font-variant-caps: inherit\; font-variant-numeric: inherit\; font-variant-east-asian: inherit\; font-weight: inherit\; font-stretch: inherit\; font-size: 11pt\; line-height: 19.425px\; font-family: Calibri\, Calibri_EmbeddedFont\, Calibri_MSFontService\, sans-serif\; vertical-align: baseline\; color: inherit\; font-kerning: none\;"><span style="margin: 0px\; padding: 0px\; border: 0px\; font: inherit\; vertical-align: baseline\; color: inherit\;">. This is a great opportunity to virtually connect</span></span><span lang="EN-US" style="margin: 0px\; padding: 0px\; border: 0px\; font-style: inherit\; font-variant-ligatures: none !important\; font-variant-caps: inherit\; font-variant-numeric: inherit\; font-variant-east-asian: inherit\; font-weight: inherit\; font-stretch: inherit\; font-size: 11pt\; line-height: 19.425px\; font-family: Calibri\, Calibri_EmbeddedFont\, Calibri_MSFontService\, sans-serif\; vertical-align: baseline\; color: inherit\; font-kerning: none\;"><span style="margin: 0px\; padding: 0px\; border: 0px\; font: inherit\; vertical-align: baseline\; color: inherit\;"><span style="margin: 0px\; padding: 0px\; border: 0px\; font: inherit\; vertical-align: baseline\; color: inherit\;">&nbsp\;</span>with other facilities throughout the Commonwealth of Massachusetts during</span></span><span lang="EN-US" style="margin: 0px\; padding: 0px\; border: 0px\; font-style: inherit\; font-variant-ligatures: none !important\; font-variant-caps: inherit\; font-variant-numeric: inherit\; font-variant-east-asian: inherit\; font-weight: inherit\; font-stretch: inherit\; font-size: 11pt\; line-height: 19.425px\; font-family: Calibri\, Calibri_EmbeddedFont\, Calibri_MSFontService\, sans-serif\; vertical-align: baseline\; color: inherit\; font-kerning: none\;"><span style="margin: 0px\; padding: 0px\; border: 0px\; font: inherit\; vertical-align: baseline\; color: inherit\;">&nbsp\;this</span></span><span lang="EN-US" style="margin: 0px\; padding: 0px\; border: 0px\; font-style: inherit\; font-variant-ligatures: none !important\; font-variant-caps: inherit\; font-variant-numeric: inherit\; font-variant-east-asian: inherit\; font-weight: inherit\; font-stretch: inherit\; font-size: 11pt\; line-height: 19.425px\; font-family: Calibri\, Calibri_EmbeddedFont\, Calibri_MSFontService\, sans-serif\; vertical-align: baseline\; color: inherit\; font-kerning: none\;"><span style="margin: 0px\; padding: 0px\; border: 0px\; font: inherit\; vertical-align: baseline\; color: inherit\;"><span style="margin: 0px\; padding: 0px\; border: 0px\; font: inherit\; vertical-align: baseline\; color: inherit\;">&nbsp\;</span>unprecedented time.</span></span><span lang="EN-US" style="margin: 0px\; padding: 0px\; border: 0px\; font-style: inherit\; font-variant-ligatures: none !important\; font-variant-caps: inherit\; font-variant-numeric: inherit\; font-variant-east-asian: inherit\; font-weight: inherit\; font-stretch: inherit\; font-size: 11pt\; line-height: 19.425px\; font-family: Calibri\, Calibri_EmbeddedFont\, Calibri_MSFontService\, sans-serif\; vertical-align: baseline\; color: inherit\; font-kerning: none\;"><span style="margin: 0px\; padding: 0px\; border: 0px\; font: inherit\; vertical-align: baseline\; color: inherit\;"><span style="margin: 0px\; padding: 0px\; border: 0px\; font: inherit\; vertical-align: baseline\; color: inherit\;">&nbsp\;</span>Join us to ask questions\, share ideas\, and collaborate with other gyms and fitness studios you may never otherwise<span style="margin: 0px\; padding: 0px\; border: 0px\; font: inherit\; vertical-align: baseline\; color: inherit\;">&nbsp\;</span></span></span><span lang="EN-US" style="margin: 0px\; padding: 0px\; border: 0px\; font-style: inherit\; font-variant-ligatures: none !important\; font-variant-caps: inherit\; font-variant-numeric: inherit\; font-variant-east-asian: inherit\; font-weight: inherit\; font-stretch: inherit\; font-size: 11pt\; line-height: 19.425px\; font-family: Calibri\, Calibri_EmbeddedFont\, Calibri_MSFontService\, sans-serif\; vertical-align: baseline\; color: inherit\; font-kerning: none\;"><span style="margin: 0px\; padding: 0px\; border: 0px\; font: inherit\; vertical-align: baseline\; color: inherit\;">have&nbsp\;</span></span><span lang="EN-US" style="margin: 0px\; padding: 0px\; border: 0px\; font-style: inherit\; font-variant-ligatures: none !important\; font-variant-caps: inherit\; font-variant-numeric: inherit\; font-variant-east-asian: inherit\; font-weight: inherit\; font-stretch: inherit\; font-size: 11pt\; line-height: 19.425px\; font-family: Calibri\, Calibri_EmbeddedFont\, Calibri_MSFontService\, sans-serif\; vertical-align: baseline\; color: inherit\; font-kerning: none\;"><span style="margin: 0px\; padding: 0px\; border: 0px\; font: inherit\; vertical-align: baseline\; color: inherit\;">had the opportunity to meet!</span></span><span style="margin: 0px\; padding: 0px\; border: 0px\; font-style: inherit\; font-variant: inherit\; font-weight: inherit\; font-stretch: inherit\; font-size: 11pt\; line-height: 19.425px\; font-family: Calibri\, Calibri_EmbeddedFont\, Calibri_MSFontService\, sans-serif\; vertical-align: baseline\; color: inherit\;">&nbsp\;</span></p>\n</div>\n\n<div style="margin: 0px\; padding: 0px\; border: 0px\; font-variant-numeric: inherit\; font-variant-east-asian: inherit\; font-stretch: inherit\; font-size: 12px\; line-height: inherit\; font-family: &quot\;Segoe UI&quot\;\, &quot\;Segoe UI Web&quot\;\, Arial\, Verdana\, sans-serif\; vertical-align: baseline\; color: rgb(0\, 0\, 0)\; clear: both\;">\n<p lang="EN-US" style="margin: 0px\; color: windowtext\;">&nbsp\;</p>\n\n<p lang="EN-US" style="margin: 0px\; color: windowtext\;"><span lang="EN-US" style="margin: 0px\; padding: 0px\; border: 0px\; font-style: inherit\; font-variant-ligatures: none !important\; font-variant-caps: inherit\; font-variant-numeric: inherit\; font-variant-east-asian: inherit\; font-weight: inherit\; font-stretch: inherit\; font-size: 11pt\; line-height: 19.425px\; font-family: Calibri\, Calibri_EmbeddedFont\, Calibri_MSFontService\, sans-serif\; vertical-align: baseline\; color: inherit\; font-kerning: none\;"><span style="margin: 0px\; padding: 0px\; border: 0px\; font: inherit\; vertical-align: baseline\; color: inherit\;">This is also a great opportunity for Chambers of Commerce throughout the State to listen to your current struggles and successes so we can better serve you.</span></span><span style="margin: 0px\; padding: 0px\; border: 0px\; font-style: inherit\; font-variant: inherit\; font-weight: inherit\; font-stretch: inherit\; font-size: 11pt\; line-height: 19.425px\; font-family: Calibri\, Calibri_EmbeddedFont\, Calibri_MSFontService\, sans-serif\; vertical-align: baseline\; color: inherit\;">&nbsp\;</span></p>\n</div>\n\n<div style="margin: 0px\; padding: 0px\; border: 0px\; font-variant-numeric: inherit\; font-variant-east-asian: inherit\; font-stretch: inherit\; font-size: 12px\; line-height: inherit\; font-family: &quot\;Segoe UI&quot\;\, &quot\;Segoe UI Web&quot\;\, Arial\, Verdana\, sans-serif\; vertical-align: baseline\; color: rgb(0\, 0\, 0)\; clear: both\;">\n<p lang="EN-US" style="margin: 0px\; color: windowtext\;">&nbsp\;</p>\n\n<p lang="EN-US" style="margin: 0px\; color: windowtext\;"><span style="color: rgb(0\, 0\, 0)\; font-family: Calibri\, Calibri_EmbeddedFont\, Calibri_MSFontService\, sans-serif\; font-size: 14.6667px\;">This event is open to all Chambers of Commerce that are members are MACCE and the members of their Chamber.</span><span lang="EN-US" style="margin: 0px\; padding: 0px\; border: 0px\; font-style: inherit\; font-variant-ligatures: none !important\; font-variant-caps: inherit\; font-variant-numeric: inherit\; font-variant-east-asian: inherit\; font-weight: inherit\; font-stretch: inherit\; font-size: 11pt\; line-height: 19.425px\; font-family: Calibri\, Calibri_EmbeddedFont\, Calibri_MSFontService\, sans-serif\; vertical-align: baseline\; color: inherit\; font-kerning: none\;"><span style="margin: 0px\; padding: 0px\; border: 0px\; font: inherit\; vertical-align: baseline\; color: inherit\;">&nbsp\;</span></span><span style="margin: 0px\; padding: 0px\; border: 0px\; font-style: inherit\; font-variant: inherit\; font-weight: inherit\; font-stretch: inherit\; font-size: 11pt\; line-height: 19.425px\; font-family: Calibri\, Calibri_EmbeddedFont\, Calibri_MSFontService\, sans-serif\; vertical-align: baseline\; color: inherit\;">&nbsp\;</span><br />\n&nbsp\;</p>\n\n<p lang="EN-US" style="margin: 0px\; color: windowtext\;"><span style="margin: 0px\; padding: 0px\; border: 0px\; font-style: inherit\; font-variant: inherit\; font-weight: inherit\; font-stretch: inherit\; font-size: 11pt\; line-height: 19.425px\; font-family: Calibri\, Calibri_EmbeddedFont\, Calibri_MSFontService\, sans-serif\; vertical-align: baseline\; color: inherit\;"><em>GLCC President/CEO\, Danielle McFadden\, currently serves as the proud President of MACCE.</em></span></p>\n</div>\n
LOCATION:
UID:e.554.4577
SEQUENCE:3
DTSTAMP:20260419T122540Z
URL:https://business.greaterlowellcc.org/events/details/macce-industry-roundtable-gyms-fitness-studios-4577
END:VEVENT

END:VCALENDAR
