BEGIN:VCALENDAR
VERSION:2.0
PRODID:-//ChamberMaster//Event Calendar 2.0//EN
METHOD:PUBLISH
X-PUBLISHED-TTL:P3D
REFRESH-INTERVAL:P3D
CALSCALE:GREGORIAN
BEGIN:VEVENT
DTSTART:20200417T140000Z
DTEND:20200417T150000Z
X-MICROSOFT-CDO-ALLDAYEVENT:FALSE
SUMMARY:M3 Business Leadership Series How Will Marketing Strategies Evolve During and After COVID-19
DESCRIPTION:This event is spearheaded by the Middlesex 3 Coalition: \n\n\n\nTo say Covid-19 has been disruptive is an understatement. Societal impacts aside\, the business community is experiencing deep ripple effects. No sector is immune to the economic spiral we face\, but many in the Middlesex 3 Community are working diligently to create\, foster and drive business opportunities\, despite the disruption.\n\n \n\nJoin us for a conversation about how we can creatively move business forward and support each other's business during a time when social distance is the new norm.\n\n \n\nPlease join us\, Middlesex 3 and the Burlington Area Chamber of Commerce on Friday\, April 17th to connect over a Zoom conference call with the Belfort Group\, a Boston-based integrated digital marketing and PR agency\, to discuss how we rethink our creative marketing strategies.
X-ALT-DESC;FMTTYPE=text/html:<div align="center" style="margin: 0px\; padding: 0px\; border: 0px\; font-variant-numeric: inherit\; font-variant-east-asian: inherit\; font-stretch: inherit\; font-size: 14px\; line-height: inherit\; font-family: Arial\, Verdana\, Helvetica\, sans-serif\; vertical-align: baseline\; color: rgb(26\, 25\, 26)\; text-align: center\;"><span style="margin: 0px\; padding: 0px\; border: 0px\; font-style: inherit\; font-variant: inherit\; font-weight: inherit\; font-stretch: inherit\; line-height: inherit\; font-family: inherit\; vertical-align: baseline\; color: black\;">This event is spearheaded by the Middlesex 3 Coalition:&nbsp\;<br />\n<br />\nTo say Covid-19 has been disruptive is an understatement. Societal impacts aside\, the business community is experiencing deep ripple effects. No sector is immune to the economic spiral we face\, but many in the Middlesex 3 Community are working diligently to create\, foster and drive business opportunities\, despite the disruption.</span></div>\n\n<div align="center" style="margin: 0px\; padding: 0px\; border: 0px\; font-variant-numeric: inherit\; font-variant-east-asian: inherit\; font-stretch: inherit\; font-size: 14px\; line-height: inherit\; font-family: Arial\, Verdana\, Helvetica\, sans-serif\; vertical-align: baseline\; color: rgb(26\, 25\, 26)\; text-align: center\;">&nbsp\;</div>\n\n<div align="center" style="margin: 0px\; padding: 0px\; border: 0px\; font-variant-numeric: inherit\; font-variant-east-asian: inherit\; font-stretch: inherit\; font-size: 14px\; line-height: inherit\; font-family: Arial\, Verdana\, Helvetica\, sans-serif\; vertical-align: baseline\; color: rgb(26\, 25\, 26)\; text-align: center\;"><span style="margin: 0px\; padding: 0px\; border: 0px\; font-style: inherit\; font-variant: inherit\; font-weight: inherit\; font-stretch: inherit\; line-height: inherit\; font-family: inherit\; vertical-align: baseline\; color: black\;">Join us for a conversation about how we can creatively move business forward and support each other&rsquo\;s business during a time when social distance is the new norm.</span></div>\n\n<div align="center" style="margin: 0px\; padding: 0px\; border: 0px\; font-variant-numeric: inherit\; font-variant-east-asian: inherit\; font-stretch: inherit\; font-size: 14px\; line-height: inherit\; font-family: Arial\, Verdana\, Helvetica\, sans-serif\; vertical-align: baseline\; color: rgb(26\, 25\, 26)\; text-align: center\;">&nbsp\;</div>\n\n<div align="center" style="margin: 0px\; padding: 0px\; border: 0px\; font-variant-numeric: inherit\; font-variant-east-asian: inherit\; font-stretch: inherit\; font-size: 14px\; line-height: inherit\; font-family: Arial\, Verdana\, Helvetica\, sans-serif\; vertical-align: baseline\; color: rgb(26\, 25\, 26)\; text-align: center\;"><span style="margin: 0px\; padding: 0px\; border: 0px\; font-style: inherit\; font-variant: inherit\; font-weight: inherit\; font-stretch: inherit\; line-height: inherit\; vertical-align: baseline\; color: rgb(51\, 51\, 51)\;">Please join us\, Middlesex 3</span><span style="margin: 0px\; padding: 0px\; border: 0px\; font-style: inherit\; font-variant: inherit\; font-weight: inherit\; font-stretch: inherit\; line-height: inherit\; vertical-align: baseline\; color: rgb(51\, 51\, 51)\;">&nbsp\;and the&nbsp\;</span><a data-auth="NotApplicable" href="http://r20.rs6.net/tn.jsp?f=001SMp2x8VRfdQIRpRW98YBKog1I5rxgsLJUtZGFnnALjDvtDyVAUjd70jgx7zlGn4Ny0_1R3F33QO7JMroO9gZMW9dpsjoD1Bx1CpppAAVBKO_jf1OiI2H3UOyl7bxPrDt-2WYybDTptpceqkPabps-UDqJZFmZDmnwjNnXCjuk6c=&amp\;c=0EFkO_lkA-9dteCyryvtXjb2NLCue2TIVKqEeD5a97jcVs8cYcSYsw==&amp\;ch=zg4fgy1KgD7kojiitBYYLKdj4xAlokfamVMh3fkTB9OItvbKYfqmPw==" rel="noopener noreferrer" style="margin: 0px\; padding: 0px\; border: 0px\; font-variant: inherit\; font-stretch: inherit\; line-height: inherit\; vertical-align: baseline\; color: rgb(30\, 75\, 253)\;" target="_blank">Burlington Area Chamber of Commerce</a><span style="margin: 0px\; padding: 0px\; border: 0px\; font-style: inherit\; font-variant: inherit\; font-weight: inherit\; font-stretch: inherit\; line-height: inherit\; vertical-align: baseline\; color: rgb(51\, 51\, 51)\;">&nbsp\;on Friday\, April 17th to connect over a Zoom conference call with the&nbsp\;</span><a data-auth="NotApplicable" href="http://r20.rs6.net/tn.jsp?f=001SMp2x8VRfdQIRpRW98YBKog1I5rxgsLJUtZGFnnALjDvtDyVAUjd74ECBFuf22xH97sCVQuI7yoNioKmej9MJYL-CHJargRZuXIhDHqAOur3kHGqeghiTT18ijVC432cQGRPrqEB1CRd9JwrT8tZ_YFh1TRywX86&amp\;c=0EFkO_lkA-9dteCyryvtXjb2NLCue2TIVKqEeD5a97jcVs8cYcSYsw==&amp\;ch=zg4fgy1KgD7kojiitBYYLKdj4xAlokfamVMh3fkTB9OItvbKYfqmPw==" rel="noopener noreferrer" style="margin: 0px\; padding: 0px\; border: 0px\; font-variant: inherit\; font-stretch: inherit\; line-height: inherit\; vertical-align: baseline\; color: rgb(30\, 75\, 253)\;" target="_blank">Belfort Group</a><span style="margin: 0px\; padding: 0px\; border: 0px\; font-style: inherit\; font-variant: inherit\; font-weight: inherit\; font-stretch: inherit\; line-height: inherit\; vertical-align: baseline\; color: rgb(51\, 51\, 51)\;">\,&nbsp\;</span><span style="margin: 0px\; padding: 0px\; border: 0px\; font-style: inherit\; font-variant: inherit\; font-weight: inherit\; font-stretch: inherit\; font-size: inherit\; line-height: inherit\; vertical-align: baseline\; color: rgb(60\, 64\, 67)\;">a&nbsp\;</span><span style="margin: 0px\; padding: 0px\; border: 0px\; font-style: inherit\; font-variant: inherit\; font-weight: inherit\; font-stretch: inherit\; font-size: inherit\; line-height: inherit\; vertical-align: baseline\; color: rgb(82\, 86\, 90)\;">Boston</span><span style="margin: 0px\; padding: 0px\; border: 0px\; font-style: inherit\; font-variant: inherit\; font-weight: inherit\; font-stretch: inherit\; font-size: inherit\; line-height: inherit\; vertical-align: baseline\; color: rgb(60\, 64\, 67)\;">-based integrated digital marketing and PR agency\,&nbsp\;</span><span style="margin: 0px\; padding: 0px\; border: 0px\; font-style: inherit\; font-variant: inherit\; font-weight: inherit\; font-stretch: inherit\; line-height: inherit\; vertical-align: baseline\; color: rgb(51\, 51\, 51)\;">to discuss how we rethink our creative marketing strategies.</span></div>\n\n<div align="center" style="margin: 0px\; padding: 0px\; border: 0px\; font-variant-numeric: inherit\; font-variant-east-asian: inherit\; font-stretch: inherit\; font-size: 14px\; line-height: inherit\; font-family: Arial\, Verdana\, Helvetica\, sans-serif\; vertical-align: baseline\; color: rgb(26\, 25\, 26)\; text-align: center\;">&nbsp\;</div>\n
LOCATION:
UID:e.554.4504
SEQUENCE:3
DTSTAMP:20260419T193354Z
URL:https://business.greaterlowellcc.org/events/details/m3-business-leadership-series-how-will-marketing-strategies-evolve-during-and-after-covid-19-4504
END:VEVENT

END:VCALENDAR
