BEGIN:VCALENDAR
VERSION:2.0
PRODID:-//ChamberMaster//Event Calendar 2.0//EN
METHOD:PUBLISH
X-PUBLISHED-TTL:P3D
REFRESH-INTERVAL:P3D
CALSCALE:GREGORIAN
BEGIN:VEVENT
DTSTART:20200326T160000Z
DTEND:20200326T173000Z
X-MICROSOFT-CDO-ALLDAYEVENT:FALSE
SUMMARY:Lunch and Learn - It's all about Relationships
DESCRIPTION:If you struggle with following up with your clients and prospects\, this workshop is for you. You'll learn how to follow up quickly and easily and keep yourself top of mind with your clients. Whether you currently use SendOutCards or are just curious about how SendOutCards may help\, this workshop is for you. \n\n\n\nZoom Link: https://zoom.us/j/8997498798
X-ALT-DESC;FMTTYPE=text/html:<p style="margin: 0px\; padding: 0px\; color: rgb(111\, 114\, 135)\; font-family: &quot\;Neue Plak&quot\;\, -apple-system\, system-ui\, Roboto\, &quot\;Helvetica Neue&quot\;\, Helvetica\, Tahoma\, Arial\, sans-serif\; font-size: 14.9333px\; letter-spacing: 0.5px\;"><span style="font-size:14px\;"><span style="font-family:arial\;"><span style="color:#000000\;"><span style="padding-top: 0px\;">If you struggle with following up with your clients and prospects\, this workshop is for you. You&#39\;ll learn how to follow up quickly and easily and keep yourself top of mind with your clients. Whether you currently use SendOutCards or are just curious about how SendOutCards may help\, this workshop is for you.&nbsp\;</span><br />\n<br />\nZoom Link:&nbsp\;</span><a href="https://zoom.us/j/8997498798"><span style="color:#000000\;">https://zoom.us/j/8997498798</span></a></span></span></p>\n\n<section class="listing-info clrfix" style="position: relative\; color: rgb(57\, 54\, 79)\; font-family: &quot\;Neue Plak&quot\;\, -apple-system\, system-ui\, Roboto\, &quot\;Helvetica Neue&quot\;\, Helvetica\, Tahoma\, Arial\, sans-serif\; font-size: 0px\; background-color: rgb(248\, 247\, 250)\;">\n<div class="js-listing-social-stream" style="margin: 0px\; padding: 0px\;">&nbsp\;</div>\n\n<div class="js-defer-map" style="margin: 0px\; padding: 0px\;">&nbsp\;</div>\n</section>\n
LOCATION:
UID:e.554.4452
SEQUENCE:3
DTSTAMP:20260419T205102Z
URL:https://business.greaterlowellcc.org/events/details/lunch-and-learn-it-s-all-about-relationships-4452
END:VEVENT

END:VCALENDAR
