BEGIN:VCALENDAR
VERSION:2.0
PRODID:-//ChamberMaster//Event Calendar 2.0//EN
METHOD:PUBLISH
X-PUBLISHED-TTL:P3D
REFRESH-INTERVAL:P3D
CALSCALE:GREGORIAN
BEGIN:VEVENT
DTSTART:20200506T170000Z
DTEND:20200506T180000Z
X-MICROSOFT-CDO-ALLDAYEVENT:FALSE
SUMMARY:Leverage Your Emotional Intelligence
DESCRIPTION:During these unprecedented times\, we are seeing organizations move from competition to compassion. Along those lines\, Leaders must further leverage and improve upon their Emotional Intelligence skills. In this session local expert\, E.J. Kritz of ath Power Consulting\, will dive into these important skills and how they impact our lives today more than ever!
X-ALT-DESC;FMTTYPE=text/html:<div data-active-view="true" data-bind="visible:getWebinarInfo().description" data-view="registration/body/body.description" style="box-sizing: border-box\; overflow-wrap: break-word\; font-family: lato-regular\, &quot\;Helvetica Neue&quot\;\, Helvetica\, Arial\, sans-serif\; font-size: 14px\;">\n<div class="description trainingDescription" style="box-sizing: border-box\; overflow-wrap: break-word\; font-family: lato-regular\, HelveticaNeueW01-55Roma\, &quot\;Helvetica Neue&quot\;\, Helvetica\, Arial\, sans-serif\;">\n<div class="clearfix" style="box-sizing: border-box\; overflow-wrap: break-word\;"><span class="registration-description" data-bind="expander:{'expandText': moreButtonText()\, 'userCollapseText': lessButtonText()\, 'text':getWebinarInfo().description}" style="box-sizing: border-box\; overflow-wrap: break-word\; white-space: pre-wrap\;">During these unprecedented times\, we are seeing organizations move from competition to compassion. Along those lines\, Leaders must further leverage and improve upon their Emotional Intelligence skills. In this session local expert\, E.J. Kritz of ath Power Consulting\, will dive into these important skills and how they impact our lives today more than ever! </span></div>\n</div>\n</div>\n
LOCATION:
UID:e.554.4506
SEQUENCE:3
DTSTAMP:20260419T154841Z
URL:https://business.greaterlowellcc.org/events/details/leverage-your-emotional-intelligence-4506
END:VEVENT

END:VCALENDAR
