BEGIN:VCALENDAR
VERSION:2.0
PRODID:-//ChamberMaster//Event Calendar 2.0//EN
METHOD:PUBLISH
X-PUBLISHED-TTL:P3D
REFRESH-INTERVAL:P3D
CALSCALE:GREGORIAN
BEGIN:VEVENT
DTSTART:20200513T150000Z
DTEND:20200513T160000Z
X-MICROSOFT-CDO-ALLDAYEVENT:FALSE
SUMMARY:Leading Through Crisis
DESCRIPTION:Not everyone see the current situation as a Crisis.  Since they have not only survived but thrived in prior crises\, such as the '70's oil embargo\, the '90's dot.com burst\, the 9/11 attack\, the '08 financial downturn\, this is just another blip within Business As Usual.  Yet this is a crisis unlike all the rest as it affects lives and livelihood alike.  During these unprecedented times\, followers will be looking to their leaders for reassurance.  And while "Hope is Not a Strategy"\, it does play an important role as we lead our teams through these challenging times.  Join this session to:\n\n\n\n	Understand the needs of followers or those we influence such as employees\, customers\, family\, etc.\n	Address those needs of followers as leaders especially within the current situation\n	Address our own needs as leaders during these unprecedented times
X-ALT-DESC;FMTTYPE=text/html:<div style="margin: 0px\; padding: 0px\; font-family: Arial\, Helvetica\, sans-serif\; font-size: 12px\; background-color: rgb(228\, 228\, 227)\;">\n<div style="margin: 0px\; padding: 0px\; font-family: Arial\, Helvetica\, sans-serif\; font-size: 12px\; background-color: rgb(228\, 228\, 227)\;">Not everyone see the current situation as a Crisis.&nbsp\; Since they have not only survived but thrived in prior crises\, such as the &#39\;70&#39\;s oil embargo\, the &#39\;90&#39\;s dot.com burst\, the 9/11 attack\, the &#39\;08 financial downturn\, this is just another blip within Business As Usual.&nbsp\; Yet this is a crisis unlike all the rest as it affects lives and livelihood alike.&nbsp\; During these unprecedented times\, followers will be looking to their leaders for reassurance.&nbsp\; And while &quot\;Hope is Not a Strategy&quot\;\, it does play an important role as we lead our teams through these challenging times.&nbsp\; Join this session to:</div>\n\n<div style="margin: 0px\; padding: 0px\; font-family: Arial\, Helvetica\, sans-serif\; font-size: 12px\; background-color: rgb(228\, 228\, 227)\;">\n<ul style="margin: 18px 0px 18px 18px\; padding-right: 0px\; padding-left: 0px\; list-style-position: outside\; list-style-image: initial\;">\n	<li style="margin: 0px\; padding: 0px\;">Understand the needs of followers or those we influence such as employees\, customers\, family\, etc.</li>\n	<li style="margin: 0px\; padding: 0px\;">Address those needs of followers as leaders especially within the current situation</li>\n	<li style="margin: 0px\; padding: 0px\;">Address our own needs as leaders during these unprecedented times</li>\n</ul>\n</div>\n</div>\n
LOCATION:
UID:e.554.4533
SEQUENCE:3
DTSTAMP:20260419T161440Z
URL:https://business.greaterlowellcc.org/events/details/leading-through-crisis-4533
END:VEVENT

END:VCALENDAR
