BEGIN:VCALENDAR
VERSION:2.0
PRODID:-//ChamberMaster//Event Calendar 2.0//EN
METHOD:PUBLISH
X-PUBLISHED-TTL:P3D
REFRESH-INTERVAL:P3D
CALSCALE:GREGORIAN
BEGIN:VEVENT
DTSTART:20200408T190000Z
DTEND:20200408T200000Z
X-MICROSOFT-CDO-ALLDAYEVENT:FALSE
SUMMARY:Keeping Staff Engaged and Productive During COVID-19 Business Closures
DESCRIPTION:Calling all the Small Business Owners to join us on FACEBOOK LIVE!\n\n\n\nDirector at Entrepreneurship Center @CTI\, Franky Descoteaux\, will share some tips and strategies on Staff Retention:\n\nKeeping Staff Engaged and Productive During COVID-19 Business Closures.\n\n\n\nThis LIVE will help you in understanding how to support your staff emotionally\, how to help them develop additional skill set and be a great leader during crisis. Come ready to take notes and walk away with a plan on how to implement this.
X-ALT-DESC;FMTTYPE=text/html:<span style="color: rgb(57\, 54\, 79)\; font-family: &quot\;Neue Plak&quot\;\, -apple-system\, system-ui\, Roboto\, &quot\;Helvetica Neue&quot\;\, Helvetica\, Tahoma\, Arial\, sans-serif\; font-size: 14.9333px\; letter-spacing: 0.5px\;">Calling all the Small Business Owners to join us on FACEBOOK LIVE!</span><br style="padding-top: 0px\; color: rgb(57\, 54\, 79)\; font-family: &quot\;Neue Plak&quot\;\, -apple-system\, system-ui\, Roboto\, &quot\;Helvetica Neue&quot\;\, Helvetica\, Tahoma\, Arial\, sans-serif\; font-size: 14.9333px\; letter-spacing: 0.5px\;" />\n<br style="color: rgb(57\, 54\, 79)\; font-family: &quot\;Neue Plak&quot\;\, -apple-system\, system-ui\, Roboto\, &quot\;Helvetica Neue&quot\;\, Helvetica\, Tahoma\, Arial\, sans-serif\; font-size: 14.9333px\; letter-spacing: 0.5px\;" />\n<span style="color: rgb(57\, 54\, 79)\; font-family: &quot\;Neue Plak&quot\;\, -apple-system\, system-ui\, Roboto\, &quot\;Helvetica Neue&quot\;\, Helvetica\, Tahoma\, Arial\, sans-serif\; font-size: 14.9333px\; letter-spacing: 0.5px\;">Director at Entrepreneurship Center @CTI\, Franky Descoteaux\, will share some tips and strategies on Staff Retention:</span><br style="color: rgb(57\, 54\, 79)\; font-family: &quot\;Neue Plak&quot\;\, -apple-system\, system-ui\, Roboto\, &quot\;Helvetica Neue&quot\;\, Helvetica\, Tahoma\, Arial\, sans-serif\; font-size: 14.9333px\; letter-spacing: 0.5px\;" />\n<span style="color: rgb(57\, 54\, 79)\; font-family: &quot\;Neue Plak&quot\;\, -apple-system\, system-ui\, Roboto\, &quot\;Helvetica Neue&quot\;\, Helvetica\, Tahoma\, Arial\, sans-serif\; font-size: 14.9333px\; letter-spacing: 0.5px\;">Keeping Staff Engaged and Productive During COVID-19 Business Closures.</span><br style="color: rgb(57\, 54\, 79)\; font-family: &quot\;Neue Plak&quot\;\, -apple-system\, system-ui\, Roboto\, &quot\;Helvetica Neue&quot\;\, Helvetica\, Tahoma\, Arial\, sans-serif\; font-size: 14.9333px\; letter-spacing: 0.5px\;" />\n<br style="color: rgb(57\, 54\, 79)\; font-family: &quot\;Neue Plak&quot\;\, -apple-system\, system-ui\, Roboto\, &quot\;Helvetica Neue&quot\;\, Helvetica\, Tahoma\, Arial\, sans-serif\; font-size: 14.9333px\; letter-spacing: 0.5px\;" />\n<span style="color: rgb(57\, 54\, 79)\; font-family: &quot\;Neue Plak&quot\;\, -apple-system\, system-ui\, Roboto\, &quot\;Helvetica Neue&quot\;\, Helvetica\, Tahoma\, Arial\, sans-serif\; font-size: 14.9333px\; letter-spacing: 0.5px\;">This LIVE will help you in understanding how to support your staff emotionally\, how to help them develop additional skill set and be a great leader during crisis. Come ready to take notes and walk away with a plan on how to implement this.</span>
LOCATION:
UID:e.554.4491
SEQUENCE:3
DTSTAMP:20260419T174734Z
URL:https://business.greaterlowellcc.org/events/details/keeping-staff-engaged-and-productive-during-covid-19-business-closures-4491
END:VEVENT

END:VCALENDAR
