BEGIN:VCALENDAR
VERSION:2.0
PRODID:-//ChamberMaster//Event Calendar 2.0//EN
METHOD:PUBLISH
X-PUBLISHED-TTL:P3D
REFRESH-INTERVAL:P3D
CALSCALE:GREGORIAN
BEGIN:VEVENT
DTSTART:20200410T140000Z
DTEND:20200410T150000Z
X-MICROSOFT-CDO-ALLDAYEVENT:FALSE
SUMMARY:Intro To Instagram For Businesses with Marte Media
DESCRIPTION:Join Henry Marte from Marte Media as he teaches you the basics of Instagram for Business (we're pretty sure even the Insta-savvy will also learn a few things) including:\n\n	Setting up your profile\n	What to post and when to post it\n	Using your Insights\n	Instagram Stories and IGTV \n	\n		and more!\n	\n	\n\nWant to get started NOW? Download Marte Media's Instagram Intro Guide for Businesses (normally $25\, but they are offering it for FREE during the COVID-19 pandemic)!
X-ALT-DESC;FMTTYPE=text/html:Join Henry Marte from Marte Media as he teaches you the basics of Instagram for Business (we&#39\;re pretty sure even the Insta-savvy will also learn a few things) including:\n<ul>\n	<li>Setting up your profile</li>\n	<li>What to post and when to post it</li>\n	<li>Using your Insights</li>\n	<li>Instagram Stories and IGTV&nbsp\;\n	<ul>\n		<li>and more!</li>\n	</ul>\n	</li>\n</ul>\nWant to get started NOW? Download <a href="https://www.marte.media/shop">Marte Media&#39\;s Instagram Intro Guide for Businesses</a> (normally $25\, but they are offering it for FREE during the COVID-19 pandemic)!&nbsp\;
LOCATION:
UID:e.554.4493
SEQUENCE:3
DTSTAMP:20260419T192826Z
URL:https://business.greaterlowellcc.org/events/details/intro-to-instagram-for-businesses-with-marte-media-4493
END:VEVENT

END:VCALENDAR
