BEGIN:VCALENDAR
VERSION:2.0
PRODID:-//ChamberMaster//Event Calendar 2.0//EN
METHOD:PUBLISH
X-PUBLISHED-TTL:P3D
REFRESH-INTERVAL:P3D
CALSCALE:GREGORIAN
BEGIN:VEVENT
DTSTART:20200714T150000Z
DTEND:20200714T160000Z
X-MICROSOFT-CDO-ALLDAYEVENT:FALSE
SUMMARY:Insperity Business Resiliency Series - Session 8: PPP Loan Forgiveness Application Report Overview
DESCRIPTION:For business leaders who received loans through the Paycheck Protection Program\, having the right information to apply for loan forgiveness is a critical next step. During this session\, we will recap the key changes to the original Paycheck Protection Program enacted through the PPP Flexibility Act. We will also provide a comprehensive overview of the custom report that has been developed for Insperity clients to assist with the PPP Loan Forgiveness application. Finally\, we will be answering some of the most common questions that business owners are asking.\n\n\n\nJoin Insperity's Christian Callens\, Managing Counsel and Michelle Larson\, Managing Director\, Accounting for this helpful and informative session.
X-ALT-DESC;FMTTYPE=text/html:<span style="margin: 0px\; padding: 0px\; border: 0px\; font-variant-numeric: inherit\; font-variant-east-asian: inherit\; font-stretch: inherit\; font-size: 12pt\; line-height: inherit\; font-family: &quot\;Arial Narrow&quot\;\, sans-serif\; vertical-align: baseline\; color: rgb(35\, 35\, 51)\;">For business leaders who received loans through the Paycheck Protection Program\, having the right information to apply for loan forgiveness is a critical next step. During this session\, we will recap the key changes to the original Paycheck Protection Program enacted through the PPP Flexibility Act. We will also provide a comprehensive overview of the custom report that has been developed for Insperity clients to assist with the PPP Loan Forgiveness application. Finally\, we will be answering some of the most common questions that business owners are asking.</span><br />\n<br />\n<span style="margin: 0px\; padding: 0px\; border: 0px\; font-variant-numeric: inherit\; font-variant-east-asian: inherit\; font-stretch: inherit\; font-size: 12pt\; line-height: inherit\; font-family: &quot\;Arial Narrow&quot\;\, sans-serif\; vertical-align: baseline\; color: rgb(35\, 35\, 51)\;"><span style="margin: 0px\; padding: 0px\; border: 0px\; font: inherit\; vertical-align: baseline\; color: inherit\;">Join Insperity&rsquo\;s Christian Callens\, Managing Counsel and Michelle Larson\, Managing Director\, Accounting for this helpful and informative session.</span></span>
LOCATION:
UID:e.554.4585
SEQUENCE:3
DTSTAMP:20260419T123115Z
URL:https://business.greaterlowellcc.org/events/details/insperity-business-resiliency-series-session-8-ppp-loan-forgiveness-application-report-overview-4585
END:VEVENT

END:VCALENDAR
