BEGIN:VCALENDAR
VERSION:2.0
PRODID:-//ChamberMaster//Event Calendar 2.0//EN
METHOD:PUBLISH
X-PUBLISHED-TTL:P3D
REFRESH-INTERVAL:P3D
CALSCALE:GREGORIAN
BEGIN:VEVENT
DTSTART:20200414T150000Z
DTEND:20200414T160000Z
X-MICROSOFT-CDO-ALLDAYEVENT:FALSE
SUMMARY:Insperity Business Resiliency Series: Rescue\, Recover\, Rebuild
DESCRIPTION:Insperity Business Resiliency Series: Rescue\, Recover\, Rebuild\n\nSession 1: Executive Insights on Resiliency by CEO/Chairman PJS\n\nIn this invaluable webinar session we will cover Insperity's response to the pandemic and moving toward business resilience through CEO/Chairman Paul Sarvadi's leadership journey.\n\n\n\nManaging Director of Brand & Marketing Strategy\, Michael Lipe will lead an in-depth discussion with Paul & Senior Vice President of Gross Profit Operations\, Jim Allison.
X-ALT-DESC;FMTTYPE=text/html:<p style="color: rgb(32\, 31\, 30)\; font-family: &quot\;Segoe UI&quot\;\, &quot\;Segoe UI Web (West European)&quot\;\, &quot\;Segoe UI&quot\;\, -apple-system\, system-ui\, Roboto\, &quot\;Helvetica Neue&quot\;\, sans-serif\; font-size: 15px\; margin-top: 0px\; margin-bottom: 0px\;"><span style="margin: 0px\; padding: 0px\; border: 0px\; font-style: inherit\; font-variant: inherit\; font-weight: inherit\; font-stretch: inherit\; font-size: 12pt\; line-height: inherit\; font-family: &quot\;Arial Narrow&quot\;\, sans-serif\; vertical-align: baseline\; color: black\;">Insperity Business Resiliency Series: Rescue\, Recover\, Rebuild</span></p>\n\n<p style="color: rgb(32\, 31\, 30)\; font-family: &quot\;Segoe UI&quot\;\, &quot\;Segoe UI Web (West European)&quot\;\, &quot\;Segoe UI&quot\;\, -apple-system\, system-ui\, Roboto\, &quot\;Helvetica Neue&quot\;\, sans-serif\; font-size: 15px\; margin-top: 0px\; margin-bottom: 12pt\; word-break: break-all\;"><span style="margin: 0px\; padding: 0px\; border: 0px\; font-style: inherit\; font-variant: inherit\; font-weight: inherit\; font-stretch: inherit\; font-size: 12pt\; line-height: inherit\; font-family: &quot\;Arial Narrow&quot\;\, sans-serif\; vertical-align: baseline\; color: black\;">Session 1: Executive Insights on Resiliency by CEO/Chairman PJS</span></p>\n\n<p style="color: rgb(32\, 31\, 30)\; font-family: &quot\;Segoe UI&quot\;\, &quot\;Segoe UI Web (West European)&quot\;\, &quot\;Segoe UI&quot\;\, -apple-system\, system-ui\, Roboto\, &quot\;Helvetica Neue&quot\;\, sans-serif\; font-size: 15px\; margin-top: 0px\; margin-bottom: 0px\; word-break: break-all\;"><span style="margin: 0px\; padding: 0px\; border: 0px\; font-style: inherit\; font-variant: inherit\; font-weight: inherit\; font-stretch: inherit\; font-size: 12pt\; line-height: inherit\; font-family: &quot\;Arial Narrow&quot\;\, sans-serif\; vertical-align: baseline\; color: black\;">In this invaluable webinar session we will cover Insperity&rsquo\;s response to the pandemic and moving toward business resilience through CEO/Chairman Paul Sarvadi&#39\;s leadership journey.</span></p>\n\n<p style="color: rgb(32\, 31\, 30)\; font-family: &quot\;Segoe UI&quot\;\, &quot\;Segoe UI Web (West European)&quot\;\, &quot\;Segoe UI&quot\;\, -apple-system\, system-ui\, Roboto\, &quot\;Helvetica Neue&quot\;\, sans-serif\; font-size: 15px\; margin-top: 0px\; margin-bottom: 0px\; word-break: break-all\;"><br />\n<span style="margin: 0px\; padding: 0px\; border: 0px\; font-style: inherit\; font-variant: inherit\; font-weight: inherit\; font-stretch: inherit\; font-size: 12pt\; line-height: inherit\; font-family: &quot\;Arial Narrow&quot\;\, sans-serif\; vertical-align: baseline\; color: black\;">Managing Director of Brand &amp\; Marketing Strategy\, Michael Lipe will lead an in-depth discussion with Paul &amp\; Senior Vice President of Gross Profit Operations\, Jim Allison.</span></p>\n
LOCATION:
UID:e.554.4497
SEQUENCE:3
DTSTAMP:20260419T193316Z
URL:https://business.greaterlowellcc.org/events/details/insperity-business-resiliency-series-rescue-recover-rebuild-4497
END:VEVENT

END:VCALENDAR
