BEGIN:VCALENDAR
VERSION:2.0
PRODID:-//ChamberMaster//Event Calendar 2.0//EN
METHOD:PUBLISH
X-PUBLISHED-TTL:P3D
REFRESH-INTERVAL:P3D
CALSCALE:GREGORIAN
BEGIN:VEVENT
DTSTART:20200430T193000Z
DTEND:20200430T210000Z
X-MICROSOFT-CDO-ALLDAYEVENT:FALSE
SUMMARY:Industry insights to help with your marketing during & after quarantine
DESCRIPTION:Industry insights to help with your marketing during & after quarantine
X-ALT-DESC;FMTTYPE=text/html:<h1 id="evm-event-title" style="margin: 0px\; padding: 0px\; font-size: 26px\; color: rgb(60\, 60\, 60)\; line-height: 31px\; font-family: Arial\, Helvetica\, sans-serif\; background-color: rgb(246\, 246\, 246)\; text-align: center\;"><span class="cc-var" style="color: rgb(0\, 0\, 128)\;" title="">Industry insights to help with your marketing during &amp\; after quarantine</span></h1>\n
LOCATION:
UID:e.554.4480
SEQUENCE:3
DTSTAMP:20260419T175023Z
URL:https://business.greaterlowellcc.org/events/details/industry-insights-to-help-with-your-marketing-during-after-quarantine-4480
END:VEVENT

END:VCALENDAR
