BEGIN:VCALENDAR
VERSION:2.0
PRODID:-//ChamberMaster//Event Calendar 2.0//EN
METHOD:PUBLISH
X-PUBLISHED-TTL:P3D
REFRESH-INTERVAL:P3D
CALSCALE:GREGORIAN
BEGIN:VEVENT
DTSTART:20190430T120000Z
DTEND:20190430T133000Z
X-MICROSOFT-CDO-ALLDAYEVENT:FALSE
SUMMARY:Inaugural Community Connections Breakfast (formerly the Municipal Breakfast)
DESCRIPTION:Join us and our local Municipal Leaders for a panel discussion about the region with Moderator Patrick Cook\, Executive Director of Public Affairs at Middlesex Community College!\n\n\n\nDo you have a question for our Municipal Leaders that you'd like us to ask? Submit it by clicking here. \n\n\n\n8:00-8:30am: Networking and visit with the Economic Development Officers and Committees from Billerica\, Chelmsford\, Dracut\, Lowell\, Tewksbury\, Tyngsborough and Westford and have breakfast.\n\n8:30-9:30am: Panel Discussion\n\n9:30-10:00am: Networking\n\n\n\n2019 Platinum Sponsors: Enterprise Bank\, Circle Health\, Jeanne D'Arc Credit Union\n\n2019 Government Affairs Sponsor: Trinity EMS\nEvent Sponsors: Eastern Bank\, Align Credit Union\, Lahey Health\, National Grid\, Clark Insurance\, UMass Lowell Inn & Conference Center\, Woodard & Curran\, Lowell Five\, Element Care
X-ALT-DESC;FMTTYPE=text/html:<span style="font-size:16px\;"><span style="font-family:arial\;"><span style="line-height: 22.39px\;">Join us and our local Municipal Leaders for a panel discussion about the region with Moderator Patrick Cook\, Executive Director of Public Affairs at Middlesex Community College!<br />\n<br />\nDo you have a question for our Municipal Leaders that you&#39\;d like us to ask? <a href="https://www.surveymonkey.com/r/R75GXP9">Submit it by clicking here.&nbsp\;</a><br />\n<br />\n8:00-8:30am: Networking and visit with the Economic Development Officers and Committees from&nbsp\;</span>Billerica\, Chelmsford\, Dracut\, Lowell\, Tewksbury\, Tyngsborough and Westford and have breakfast.<br />\n8:30-9:30am: Panel Discussion<br />\n9:30-10:00am: Networking<br />\n<br />\n<span style="margin: 0px\; padding: 0px\; border: none\; outline: 0px\; vertical-align: baseline\; background-image: none\; background-position: initial\; background-size: initial\; background-repeat: initial\; background-attachment: initial\; background-origin: initial\; background-clip: initial\; bottom: auto\; box-sizing: content-box\; clear: none\; content: normal\; direction: inherit\; empty-cells: show\; font-variant-numeric: inherit\; font-variant-east-asian: inherit\; font-stretch: inherit\; left: auto\; line-height: inherit\; max-height: none\; max-width: none\; min-height: initial\; min-width: initial\; opacity: 1\; outline-offset: 0px\; overflow: visible\; position: static\; resize: none\; right: auto\; table-layout: auto\; text-overflow: clip\; top: auto\; visibility: inherit\; word-break: inherit\; word-wrap: inherit\; z-index: auto\; border-collapse: separate\; border-radius: 0px\; height: auto\; width: auto\; box-shadow: none\;"><span style="margin: 0px\; padding: 0px\; border: none\; outline: 0px\; vertical-align: baseline\; background: none\; bottom: auto\; box-sizing: content-box\; clear: none\; content: normal\; direction: inherit\; empty-cells: show\; font-style: inherit\; font-variant: inherit\; font-weight: inherit\; font-stretch: inherit\; left: auto\; letter-spacing: inherit\; line-height: inherit\; max-height: none\; max-width: none\; min-height: initial\; min-width: initial\; opacity: 1\; outline-offset: 0px\; overflow: visible\; position: static\; resize: none\; right: auto\; table-layout: auto\; text-align: inherit\; text-indent: inherit\; text-overflow: clip\; text-transform: inherit\; top: auto\; visibility: inherit\; white-space: inherit\; word-break: inherit\; word-spacing: inherit\; word-wrap: inherit\; z-index: auto\; border-collapse: separate\; border-radius: 0px\; height: auto\; width: auto\; box-shadow: none\;"><span style="margin: 0px\; padding: 0px\; border: none\; outline: 0px\; font-style: inherit\; font-variant: inherit\; font-weight: inherit\; font-stretch: inherit\; line-height: inherit\; vertical-align: baseline\; background: none\; bottom: auto\; box-sizing: content-box\; clear: none\; content: normal\; direction: inherit\; empty-cells: show\; left: auto\; letter-spacing: inherit\; max-height: none\; max-width: none\; min-height: initial\; min-width: initial\; opacity: 1\; outline-offset: 0px\; overflow: visible\; position: static\; resize: none\; right: auto\; table-layout: auto\; text-align: inherit\; text-indent: inherit\; text-overflow: clip\; text-transform: inherit\; top: auto\; visibility: inherit\; white-space: inherit\; word-break: inherit\; word-spacing: inherit\; word-wrap: inherit\; z-index: auto\; border-collapse: separate\; border-radius: 0px\; height: auto\; width: auto\; box-shadow: none\;"><strong>2019 Platinum Sponsors:</strong> Enterprise Bank\, Circle Health\, Jeanne D&#39\;Arc Credit Union<br />\n<strong>2019 Government Affairs Sponsor: </strong>Trinity EMS</span></span></span></span></span>\n<p style="margin: 1em 0px\; padding: 0px\; border: none\; outline: 0px\; font-size: 16px\; vertical-align: baseline\; background-image: none\; background-position: initial\; background-size: initial\; background-repeat: initial\; background-attachment: initial\; background-origin: initial\; background-clip: initial\; bottom: auto\; box-sizing: content-box\; clear: none\; color: rgb(0\, 0\, 0)\; content: normal\; direction: inherit\; empty-cells: show\; float: none\; font-variant-numeric: inherit\; font-variant-east-asian: inherit\; font-stretch: inherit\; font-family: Calibri\, Helvetica\, sans-serif\; left: auto\; line-height: inherit\; max-height: none\; max-width: none\; min-height: initial\; min-width: initial\; opacity: 1\; outline-offset: 0px\; overflow: visible\; position: static\; resize: none\; right: auto\; table-layout: auto\; text-overflow: clip\; top: auto\; visibility: inherit\; word-break: inherit\; word-wrap: inherit\; z-index: auto\; border-collapse: separate\; border-radius: 0px\; height: auto\; width: auto\; box-shadow: none\;"><span style="font-size:16px\;"><span style="font-family:arial\;"><span style="margin: 0px\; padding: 0px\; border: none\; outline: 0px\; vertical-align: baseline\; background: none\; bottom: auto\; box-sizing: content-box\; clear: none\; content: normal\; direction: inherit\; empty-cells: show\; font-style: inherit\; font-variant: inherit\; font-weight: inherit\; font-stretch: inherit\; left: auto\; letter-spacing: inherit\; line-height: inherit\; max-height: none\; max-width: none\; min-height: initial\; min-width: initial\; opacity: 1\; outline-offset: 0px\; overflow: visible\; position: static\; resize: none\; right: auto\; table-layout: auto\; text-align: inherit\; text-indent: inherit\; text-overflow: clip\; text-transform: inherit\; top: auto\; visibility: inherit\; white-space: inherit\; word-break: inherit\; word-spacing: inherit\; word-wrap: inherit\; z-index: auto\; border-collapse: separate\; border-radius: 0px\; height: auto\; width: auto\; box-shadow: none\;"><span style="margin: 0px\; padding: 0px\; border: none\; outline: 0px\; vertical-align: baseline\; background: none\; bottom: auto\; box-sizing: content-box\; clear: none\; content: normal\; direction: inherit\; empty-cells: show\; font-style: inherit\; font-variant: inherit\; font-weight: inherit\; font-stretch: inherit\; left: auto\; letter-spacing: inherit\; line-height: inherit\; max-height: none\; max-width: none\; min-height: initial\; min-width: initial\; opacity: 1\; outline-offset: 0px\; overflow: visible\; position: static\; resize: none\; right: auto\; table-layout: auto\; text-align: inherit\; text-indent: inherit\; text-overflow: clip\; text-transform: inherit\; top: auto\; visibility: inherit\; white-space: inherit\; word-break: inherit\; word-spacing: inherit\; word-wrap: inherit\; z-index: auto\; border-collapse: separate\; border-radius: 0px\; height: auto\; width: auto\; box-shadow: none\;"><strong>Event Sponsors:</strong> Eastern Bank\, Align Credit Union\, Lahey Health\, National Grid\, Clark Insurance\, UMass Lowell Inn &amp\; Conference Center\, Woodard &amp\; Curran\, Lowell Five\, Element Care</span></span></span></span></p>\n
LOCATION:UMass Lowell Inn & Conference Center 50 Warren Street Lowell\, MA 01852
UID:e.554.4299
SEQUENCE:3
DTSTAMP:20260422T030842Z
URL:https://business.greaterlowellcc.org/events/details/inaugural-community-connections-breakfast-formerly-the-municipal-breakfast-4299
END:VEVENT

END:VCALENDAR
