BEGIN:VCALENDAR
VERSION:2.0
PRODID:-//ChamberMaster//Event Calendar 2.0//EN
METHOD:PUBLISH
X-PUBLISHED-TTL:P3D
REFRESH-INTERVAL:P3D
CALSCALE:GREGORIAN
BEGIN:VEVENT
DTSTART:20200610T150000Z
DTEND:20200610T160000Z
X-MICROSOFT-CDO-ALLDAYEVENT:FALSE
SUMMARY:Imagining the Future - Business and Life After COVID-19
DESCRIPTION:As a cure for this virus is developed and vaccines become available\, the fears in our minds will gradually diminish.  However\, it may be 2 to 3 years before this fear factor gets to a point where we feel comfortable going to sports events\, enjoying concerts or visiting crowded restaurants again.  A new way of life and buisness will emerge and we will have to adapt.  New business models will evolve\; technology and artificial intelligence may play more important roles.  More storefronts may become virtual.  Home delivery and takeout may become the new norm.  Those who adapt and stay ahead of the change will not only survive but thrive\; those who do not may be left behind.  This session will focus on:\n\n\n\n	Imagining life and business after COVID-19\n	Envisioning possibilities for our life and business\n	Discussing how to not only adapt to but lead the change
X-ALT-DESC;FMTTYPE=text/html:<div style="margin: 0px\; padding: 0px\; font-family: Arial\, Helvetica\, sans-serif\; font-size: 12px\; background-color: rgb(228\, 228\, 227)\;">\n<div style="margin: 0px\; padding: 0px\; font-family: Arial\, Helvetica\, sans-serif\; font-size: 12px\; background-color: rgb(228\, 228\, 227)\;">\n<div style="margin: 0px\; padding: 0px\; font-family: Arial\, Helvetica\, sans-serif\; font-size: 12px\; background-color: rgb(228\, 228\, 227)\;">As a cure for this virus is developed and vaccines become available\, the fears in our minds will gradually diminish.&nbsp\; However\, it may be 2 to 3 years before this fear factor gets to a point where we feel comfortable going to sports events\, enjoying concerts or visiting crowded restaurants again.&nbsp\; A new way of life and buisness will emerge and we will have to adapt.&nbsp\; New business models will evolve\; technology and artificial intelligence may play more important roles.&nbsp\; More storefronts may become virtual.&nbsp\; Home delivery and takeout may become the new norm.&nbsp\; Those who adapt and stay ahead of the change will not only survive but thrive\; those who do not may be left behind.&nbsp\; This session will focus on:</div>\n\n<div style="margin: 0px\; padding: 0px\; font-family: Arial\, Helvetica\, sans-serif\; font-size: 12px\; background-color: rgb(228\, 228\, 227)\;">\n<ul style="margin: 18px 0px 18px 18px\; padding-right: 0px\; padding-left: 0px\; list-style-position: outside\; list-style-image: initial\;">\n	<li style="margin: 0px\; padding: 0px\;">Imagining life and business after COVID-19</li>\n	<li style="margin: 0px\; padding: 0px\;">Envisioning possibilities for our life and business</li>\n	<li style="margin: 0px\; padding: 0px\;">Discussing how to not only adapt to but lead the change</li>\n</ul>\n</div>\n</div>\n</div>\n
LOCATION:
UID:e.554.4537
SEQUENCE:3
DTSTAMP:20260419T155733Z
URL:https://business.greaterlowellcc.org/events/details/imagining-the-future-business-and-life-after-covid-19-4537
END:VEVENT

END:VCALENDAR
