BEGIN:VCALENDAR
VERSION:2.0
PRODID:-//ChamberMaster//Event Calendar 2.0//EN
METHOD:PUBLISH
X-PUBLISHED-TTL:P3D
REFRESH-INTERVAL:P3D
CALSCALE:GREGORIAN
BEGIN:VEVENT
DTSTART:20200520T150000Z
DTEND:20200520T160000Z
X-MICROSOFT-CDO-ALLDAYEVENT:FALSE
SUMMARY:Identifying Opportunities Within Adversities
DESCRIPTION:"In every adversity lies the seed of an equal or greater opportunity."  This famous quote from Napoleon Hill looks to the brighter side of dark situations.  During these times\, focusing our thoughts in positive ways can help as we are constantly getting bombarded with negative news and information.  Come to this session to:\n\n\n\n	Escape the bombardment of negative news and information\n	Identify opportunities within the current situation of these challenging times\n	Brainstorm opportunities that will emerge afterwards from this crisis
X-ALT-DESC;FMTTYPE=text/html:<div style="margin: 0px\; padding: 0px\; font-family: Arial\, Helvetica\, sans-serif\; font-size: 12px\; background-color: rgb(228\, 228\, 227)\;">\n<div style="margin: 0px\; padding: 0px\; font-family: Arial\, Helvetica\, sans-serif\; font-size: 12px\; background-color: rgb(228\, 228\, 227)\;">\n<div style="margin: 0px\; padding: 0px\; font-family: Arial\, Helvetica\, sans-serif\; font-size: 12px\; background-color: rgb(228\, 228\, 227)\;">&quot\;In every adversity lies the seed of an equal or greater opportunity.&quot\;&nbsp\; This famous quote from Napoleon Hill looks to the brighter side of dark situations.&nbsp\; During these times\, focusing our thoughts in positive ways can help as we are constantly getting bombarded with negative news and information.&nbsp\; Come to this session to:</div>\n\n<div style="margin: 0px\; padding: 0px\; font-family: Arial\, Helvetica\, sans-serif\; font-size: 12px\; background-color: rgb(228\, 228\, 227)\;">\n<ul style="margin: 18px 0px 18px 18px\; padding-right: 0px\; padding-left: 0px\; list-style-position: outside\; list-style-image: initial\;">\n	<li style="margin: 0px\; padding: 0px\;">Escape the bombardment of negative news and information</li>\n	<li style="margin: 0px\; padding: 0px\;">Identify opportunities within the current situation of these challenging times</li>\n	<li style="margin: 0px\; padding: 0px\;">Brainstorm opportunities that will emerge afterwards from this crisis</li>\n</ul>\n</div>\n</div>\n</div>\n
LOCATION:
UID:e.554.4534
SEQUENCE:3
DTSTAMP:20260419T154904Z
URL:https://business.greaterlowellcc.org/events/details/identifying-opportunities-within-adversities-4534
END:VEVENT

END:VCALENDAR
