BEGIN:VCALENDAR
VERSION:2.0
PRODID:-//ChamberMaster//Event Calendar 2.0//EN
METHOD:PUBLISH
X-PUBLISHED-TTL:P3D
REFRESH-INTERVAL:P3D
CALSCALE:GREGORIAN
BEGIN:VEVENT
DTSTART:20200521T153000Z
DTEND:20200521T163000Z
X-MICROSOFT-CDO-ALLDAYEVENT:FALSE
SUMMARY:I Think I Can\, I Think I Can\, I Think I Can: (Why This May Not Be Enough)… Thinking Clearly\, Effectively\, and Critically
DESCRIPTION:Our ability to think clearly reflects directly on our ability to solve nearly any kind of problem handling stress\, understanding the competition\, and how to deal with a crisis. If we're not aware of our own style of thinking\, our existing methods may not be sufficient to handle the new kinds of problems we're currently facing including how to deal with unplanned developments.  This webinar will help us to:\n\n\n	Examine our current thinking style what's working for us and what's not\n	Learn what tools we can use to help us think more clearly\n	Discover the value of creative-\, design-\, and constructive-thinking\n	Create an adaptive learning and thinking style
X-ALT-DESC;FMTTYPE=text/html:<p style="box-sizing: border-box\; color: rgb(116\, 116\, 116)\; font-family: &quot\;PT Sans&quot\;\; font-size: 16px\;">Our ability to think clearly reflects directly on our ability to solve nearly any kind of problem&mdash\;handling stress\, understanding the competition\, and how to deal with a crisis. If we&rsquo\;re not aware of our own style of thinking\, our existing methods may not be sufficient to handle the new kinds of problems we&rsquo\;re currently facing&mdash\;including how to deal with unplanned developments.&nbsp\; This webinar will help us to:</p>\n\n<ul style="box-sizing: border-box\; list-style-position: outside\; list-style-image: initial\; color: rgb(116\, 116\, 116)\; font-family: &quot\;PT Sans&quot\;\; font-size: 16px\;">\n	<li style="box-sizing: border-box\; line-height: 1.7\; margin: 0px 0px 20px\;">Examine our current thinking style&mdash\;what&rsquo\;s working for us and what&rsquo\;s not</li>\n	<li style="box-sizing: border-box\; line-height: 1.7\; margin: 0px 0px 20px\;">Learn what tools we can use to help us think more clearly</li>\n	<li style="box-sizing: border-box\; line-height: 1.7\; margin: 0px 0px 20px\;">Discover the value of creative-\, design-\, and constructive-thinking</li>\n	<li style="box-sizing: border-box\; line-height: 1.7\; margin: 0px 0px 20px\;">Create an adaptive learning and thinking style</li>\n</ul>\n
LOCATION:
UID:e.554.4544
SEQUENCE:3
DTSTAMP:20260419T173858Z
URL:https://business.greaterlowellcc.org/events/details/i-think-i-can-i-think-i-can-i-think-i-can-why-this-may-not-be-enough-thinking-clearly-effectively-and-critically-4544
END:VEVENT

END:VCALENDAR
