BEGIN:VCALENDAR
VERSION:2.0
PRODID:-//ChamberMaster//Event Calendar 2.0//EN
METHOD:PUBLISH
X-PUBLISHED-TTL:P3D
REFRESH-INTERVAL:P3D
CALSCALE:GREGORIAN
BEGIN:VEVENT
DTSTART:20200520T130000Z
DTEND:20200520T133000Z
X-MICROSOFT-CDO-ALLDAYEVENT:FALSE
SUMMARY:I Object: How to Minimize and Overcome Objections
DESCRIPTION:Key decision makers can be hesitant\, resistant\, or even apathetic. Learn how to respond to an objection and how to address it so your answer becomes the reason for moving forward. Participants will learn how to use questions to handle the most often used stalls and objections heard from prospects. By using questions to bring up concerns and expectations before the prospect has a chance to\, you remove the roadblocks and streamline the process\, building rapport as a thoughtful sales professional as you do so.  \n\n \n\nOutcomes: \n\n  Use the "Objection Autopsy" to comfortably and confidently address the primary objections\, and separate objections from conditions \n\n  Identify the root causes of objections and stalls  \n\n   Deal with objections in a conversational\, non-adversarial way \n\n   Assess and improve your current responses to stalls\, like "Call me back next month\, "Not interested/No need"\, "Have a supplier/Under contract" "Too busy"\, "Send me your information" etc.
X-ALT-DESC;FMTTYPE=text/html:<p class="paragraph" style="box-sizing: border-box\; color: rgb(116\, 116\, 116)\; font-family: &quot\;PT Sans&quot\;\; font-size: 16px\;"><span class="normaltextrun" style="box-sizing: border-box\;">Key decision makers can be hesitant\, resistant\, or even apathetic. Learn how to respond to an objection and how to address it so your answer becomes the reason for moving forward. Participants will learn how to use questions to handle the most often used stalls and objections heard from prospects. By using questions to bring up concerns and expectations before the prospect has a chance to\, you remove the roadblocks and streamline the process\, building rapport as a thoughtful sales professional as you do so.&nbsp\;</span><span class="eop" style="box-sizing: border-box\;">&nbsp\;</span></p>\n\n<p class="paragraph" style="box-sizing: border-box\; color: rgb(116\, 116\, 116)\; font-family: &quot\;PT Sans&quot\;\; font-size: 16px\;"><span class="eop" style="box-sizing: border-box\;">&nbsp\;</span></p>\n\n<p class="paragraph" style="box-sizing: border-box\; color: rgb(116\, 116\, 116)\; font-family: &quot\;PT Sans&quot\;\; font-size: 16px\;"><span class="normaltextrun" style="box-sizing: border-box\;"><b style="box-sizing: border-box\;">Outcomes:</b></span><span class="eop" style="box-sizing: border-box\;">&nbsp\;</span></p>\n\n<p class="paragraph" style="box-sizing: border-box\; color: rgb(116\, 116\, 116)\; font-family: &quot\;PT Sans&quot\;\; font-size: 16px\;"><span class="eop" style="box-sizing: border-box\;">&middot\;&nbsp\;</span><span class="normaltextrun" style="box-sizing: border-box\;">Use the &ldquo\;Objection Autopsy&rdquo\; to comfortably and confidently address the primary objections\, and separate&nbsp\;<i style="box-sizing: border-box\;">objections</i>&nbsp\;from&nbsp\;<i style="box-sizing: border-box\;">conditions</i></span><span class="eop" style="box-sizing: border-box\;">&nbsp\;</span></p>\n\n<p class="paragraph" style="box-sizing: border-box\; color: rgb(116\, 116\, 116)\; font-family: &quot\;PT Sans&quot\;\; font-size: 16px\;">&middot\;&nbsp\;<span class="eop" style="box-sizing: border-box\;">Identify&nbsp\;</span><span class="normaltextrun" style="box-sizing: border-box\;">the root causes of objections and stalls&nbsp\;</span><span class="eop" style="box-sizing: border-box\;">&nbsp\;</span></p>\n\n<p class="paragraph" style="box-sizing: border-box\; color: rgb(116\, 116\, 116)\; font-family: &quot\;PT Sans&quot\;\; font-size: 16px\;">&middot\;&nbsp\;&nbsp\;<span class="normaltextrun" style="box-sizing: border-box\;">Deal with objections in a conversational\, non-adversarial way</span><span class="eop" style="box-sizing: border-box\;">&nbsp\;</span></p>\n\n<p class="paragraph" style="box-sizing: border-box\; color: rgb(116\, 116\, 116)\; font-family: &quot\;PT Sans&quot\;\; font-size: 16px\;">&middot\;&nbsp\;&nbsp\;<span class="normaltextrun" style="box-sizing: border-box\;">Assess and improve your current responses to stalls\, like &ldquo\;Call me back next&nbsp\;</span><span class="normaltextrun" style="box-sizing: border-box\;">month\,&nbsp\;&ldquo\;Not interested/No need&rdquo\;\, &ldquo\;Have a supplier/Under&#8239\;contract&rdquo\; &ldquo\;Too busy&rdquo\;\,&nbsp\;&ldquo\;Send me your information&rdquo\; etc.&#8239\;</span><span class="eop" style="box-sizing: border-box\;">&nbsp\;</span></p>\n
LOCATION:
UID:e.554.4543
SEQUENCE:3
DTSTAMP:20260419T173434Z
URL:https://business.greaterlowellcc.org/events/details/i-object-how-to-minimize-and-overcome-objections-4543
END:VEVENT

END:VCALENDAR
