BEGIN:VCALENDAR
VERSION:2.0
PRODID:-//ChamberMaster//Event Calendar 2.0//EN
METHOD:PUBLISH
X-PUBLISHED-TTL:P3D
REFRESH-INTERVAL:P3D
CALSCALE:GREGORIAN
BEGIN:VEVENT
DTSTART:20200519T130000Z
DTEND:20200519T140000Z
X-MICROSOFT-CDO-ALLDAYEVENT:FALSE
SUMMARY:How to Succeed - Selling During Uncertainty
DESCRIPTION:If you're a business owner\, sales leader or sales professional\, this webinar is for you. During our time together we will discuss the most important lessons this crisis is teaching us about sales and about what it takes for you and your teams to be successful during turbulent times. You will learn:\n\n*Behavior & conversation mapping process\n\n*Remote work environment tips for success\n\n*How to stay relevant and have meaningful and purposeful \n\n\n\nPresenter: Haley Haggerty from Next Level\, Inc.
X-ALT-DESC;FMTTYPE=text/html:<p style="color: rgb(32\, 31\, 30)\; font-family: &quot\;Segoe UI&quot\;\, &quot\;Segoe UI Web (West European)&quot\;\, &quot\;Segoe UI&quot\;\, -apple-system\, system-ui\, Roboto\, &quot\;Helvetica Neue&quot\;\, sans-serif\; font-size: 15px\; background-image: initial\; background-position: initial\; background-size: initial\; background-repeat: initial\; background-attachment: initial\; background-origin: initial\; background-clip: initial\;"><span style="margin: 0px\; padding: 0px\; border: 0px\; font-style: inherit\; font-variant: inherit\; font-weight: inherit\; font-stretch: inherit\; font-size: inherit\; line-height: inherit\; font-family: Arial\, sans-serif\; vertical-align: baseline\; color: black\; background-image: initial\; background-position: initial\; background-size: initial\; background-repeat: initial\; background-attachment: initial\; background-origin: initial\; background-clip: initial\;">If you&rsquo\;re a business owner\, sales leader or sales professional\, this webinar is for you. During our time together we will discuss the most important lessons this crisis is teaching us about sales and about what it takes for you and your teams to be successful during turbulent times. You will learn:</span></p>\n\n<p style="color: rgb(32\, 31\, 30)\; font-family: &quot\;Segoe UI&quot\;\, &quot\;Segoe UI Web (West European)&quot\;\, &quot\;Segoe UI&quot\;\, -apple-system\, system-ui\, Roboto\, &quot\;Helvetica Neue&quot\;\, sans-serif\; font-size: 15px\; background-image: initial\; background-position: initial\; background-size: initial\; background-repeat: initial\; background-attachment: initial\; background-origin: initial\; background-clip: initial\;"><span style="margin: 0px\; padding: 0px\; border: 0px\; font-style: inherit\; font-variant: inherit\; font-weight: inherit\; font-stretch: inherit\; font-size: inherit\; line-height: inherit\; font-family: Arial\, sans-serif\; vertical-align: baseline\; color: black\;">*Behavior &amp\; conversation mapping process<br />\n*Remote work environment tips for success<br />\n*How to stay relevant and have meaningful and purposeful&nbsp\;</span><br />\n<br />\n<span style="color: rgb(0\, 0\, 0)\; font-family: Calibri\, sans-serif\; font-size: 14.6667px\;">Presenter: Haley Haggerty from Next Level\, Inc.</span></p>\n
LOCATION:https://zoom.us/j/91940165903 Password: 076751
UID:e.554.4525
SEQUENCE:3
DTSTAMP:20260419T173514Z
URL:https://business.greaterlowellcc.org/events/details/how-to-succeed-selling-during-uncertainty-4525
END:VEVENT

END:VCALENDAR
