BEGIN:VCALENDAR
VERSION:2.0
PRODID:-//ChamberMaster//Event Calendar 2.0//EN
METHOD:PUBLISH
X-PUBLISHED-TTL:P3D
REFRESH-INTERVAL:P3D
CALSCALE:GREGORIAN
BEGIN:VEVENT
DTSTART:20200430T130000Z
DTEND:20200430T140000Z
X-MICROSOFT-CDO-ALLDAYEVENT:FALSE
SUMMARY:How to Succeed- Leading During Uncertainty
DESCRIPTION:As a leader\, your people need you arguably now more than ever. Our routines have changed dramatically\, our work environments look nothing like they did a month ago and our companies have had to make some of the toughest decisions we have ever had to make. How we handle this crisis most certainly determine our future. In this webinar you will hear about thoughtful leadership\, accountability and the necessary steps to keep the revenue engines running. You will learn:\n\n* The definition of thoughtful leadership\n\n* The process of thoughtful accountability\n\n* Sales leadership and communication\n\n* The top 3 revenue blind spots \n\n\n\nPresenter: Haley Haggerty from Next Level\, Inc.
X-ALT-DESC;FMTTYPE=text/html:<p style="color: rgb(32\, 31\, 30)\; font-family: &quot\;Segoe UI&quot\;\, &quot\;Segoe UI Web (West European)&quot\;\, &quot\;Segoe UI&quot\;\, -apple-system\, system-ui\, Roboto\, &quot\;Helvetica Neue&quot\;\, sans-serif\; font-size: 15px\; background-image: initial\; background-position: initial\; background-size: initial\; background-repeat: initial\; background-attachment: initial\; background-origin: initial\; background-clip: initial\;"><span style="margin: 0px\; padding: 0px\; border: 0px\; font: inherit\; vertical-align: baseline\; color: black\;">As a leader\, your people need you arguably now more than ever. Our routines have changed dramatically\, our work environments look nothing like they did a month ago and our companies have had to make some of the toughest decisions we have ever had to make. How we handle this crisis most certainly determine our future. In this webinar you will hear about thoughtful leadership\, accountability and the necessary steps to keep the revenue engines running. You will learn:</span></p>\n\n<p style="color: rgb(32\, 31\, 30)\; font-family: &quot\;Segoe UI&quot\;\, &quot\;Segoe UI Web (West European)&quot\;\, &quot\;Segoe UI&quot\;\, -apple-system\, system-ui\, Roboto\, &quot\;Helvetica Neue&quot\;\, sans-serif\; font-size: 15px\; background-image: initial\; background-position: initial\; background-size: initial\; background-repeat: initial\; background-attachment: initial\; background-origin: initial\; background-clip: initial\;"><span style="margin: 0px\; padding: 0px\; border: 0px\; font: inherit\; vertical-align: baseline\; color: black\;">* The definition of thoughtful leadership<br />\n* The process of thoughtful accountability</span><br />\n<span style="margin: 0px\; padding: 0px\; border: 0px\; font: inherit\; vertical-align: baseline\; color: black\; background-image: initial\; background-position: initial\; background-size: initial\; background-repeat: initial\; background-attachment: initial\; background-origin: initial\; background-clip: initial\;">* Sales leadership and communication</span><br />\n<span style="margin: 0px\; padding: 0px\; border: 0px\; font: inherit\; vertical-align: baseline\; color: black\;">* The top 3 revenue blind spots&nbsp\;</span><br />\n<br />\n<span style="color: rgb(0\, 0\, 0)\; font-family: Calibri\, sans-serif\; font-size: 14.6667px\;">Presenter: Haley Haggerty from Next Level\, Inc.</span></p>\n
LOCATION:https://zoom.us/j/98026957618 Password: 090860
UID:e.554.4526
SEQUENCE:3
DTSTAMP:20260419T174330Z
URL:https://business.greaterlowellcc.org/events/details/how-to-succeed-leading-during-uncertainty-4526
END:VEVENT

END:VCALENDAR
