BEGIN:VCALENDAR
VERSION:2.0
PRODID:-//ChamberMaster//Event Calendar 2.0//EN
METHOD:PUBLISH
X-PUBLISHED-TTL:P3D
REFRESH-INTERVAL:P3D
CALSCALE:GREGORIAN
BEGIN:VEVENT
DTSTART:20200512T170000Z
DTEND:20200512T180000Z
X-MICROSOFT-CDO-ALLDAYEVENT:FALSE
SUMMARY:How To Avoid COVID-19 Scams
DESCRIPTION:Brought to you by the Tewksbury Public Library\n\n\n\nLearn about COVID-19 scams that are affecting business owners and community members across the state.\n\nThe webinar will be led by Amy Schram\, Community Relations Manager with the Better Business Bureau\, and Robin Putnam\, Special Projects Manager with the Massachusetts Office of Consumer Affairs.\n\nSchram and Putnam will discuss many of the scams that have emerged during the COVID-19 pandemic and share resources that will help residents and business owners protect themselves from fraudsters. Questions from the audience will be answered at the end of the webinar.
X-ALT-DESC;FMTTYPE=text/html:<p style="color: rgb(0\, 0\, 0)\; font-family: Times\; font-size: medium\;"><span style="color: rgb(0\, 0\, 0)\; font-family: Times\; font-size: medium\;"><strong>Brought to you by the&nbsp\;Tewksbury Public Library</strong></span><br />\n<br />\nLearn about COVID-19 scams that are affecting business owners and community members across the state.</p>\n\n<p style="color: rgb(0\, 0\, 0)\; font-family: Times\; font-size: medium\;">The webinar will be led by Amy Schram\, Community Relations Manager with the Better Business Bureau\, and Robin Putnam\, Special Projects Manager with the Massachusetts Office of Consumer Affairs.</p>\n\n<p style="color: rgb(0\, 0\, 0)\; font-family: Times\; font-size: medium\;">Schram and Putnam will discuss many of the scams that have emerged during the COVID-19 pandemic and share resources that will help residents and business owners protect themselves from fraudsters. Questions from the audience will be answered at the end of the webinar.</p>\n
LOCATION:
UID:e.554.4550
SEQUENCE:3
DTSTAMP:20260419T155153Z
URL:https://business.greaterlowellcc.org/events/details/how-to-avoid-covid-19-scams-4550
END:VEVENT

END:VCALENDAR
