BEGIN:VCALENDAR
VERSION:2.0
PRODID:-//ChamberMaster//Event Calendar 2.0//EN
METHOD:PUBLISH
X-PUBLISHED-TTL:P3D
REFRESH-INTERVAL:P3D
CALSCALE:GREGORIAN
BEGIN:VEVENT
DTSTART:20200415T193000Z
DTEND:20200415T210000Z
X-MICROSOFT-CDO-ALLDAYEVENT:FALSE
SUMMARY:Honing In Your Message on Social Media to be Contextually Relevant
DESCRIPTION:Honing in your messaging on social media to be contextually relevant and sensitive during these difficult times.\n\n \nThe current events around the COVID pandemic & the current bear market are unprecedented. People are incredibly concerned (as they should be) and are now quarantining themselves globally. There's a big opportunity to reach your business's target audience while they are paying attention on social media\n\nbut beware...this is a double edged sword. This webinar will go over messaging strategies for social media to help your business be contextually relevant while remaining sensitive to the events that are unfolding. Figure out how to develop a rapport with people on social media\, be contextually relevant without going off brand\, and come off as sensitive to people's concerns.\n\nPresenter:  Oliver Schultz:  Oliver is the CEO/Founder of Centaur Consulting Group. His expertise with digital marketing and analytics is vast and deep\, He was a top performer at agencies like WordStream where his work was integral to the success some of their largest Google Ad and Facebook Ad accounts. Oliver's company manage search engine accounts\, create new operations processes\, train new employees\, develop internal service offerings\, and act as a jack of all trades to help resolve any issues as they arise. Besides his zeal for outdoor sports\, he donates his skills to help nonprofits find more success.
X-ALT-DESC;FMTTYPE=text/html:<span style="font-size:12px\;"><span style="font-family:arial\;"><strong style="color: rgb(0\, 0\, 128)\; font-family: Arial\, Helvetica\, sans-serif\; font-size: 18.6667px\; background-color: rgb(246\, 246\, 246)\;">Honing in your messaging on social media to be contextually relevant and sensitive during these difficult times.</strong></span></span><br />\n&nbsp\;\n<p style="margin: 0px 0px 18px\; padding: 0px\; font-family: Arial\, Helvetica\, sans-serif\; font-size: 12px\; background-color: rgb(246\, 246\, 246)\;"><span style="font-size:12px\;"><span style="font-family:arial\;">The current events around the COVID pandemic &amp\; the current bear market are unprecedented. People are incredibly concerned (as they should be) and are now quarantining themselves globally. There&#39\;s a big opportunity to reach your business&#39\;s target audience while they are paying attention on social media</span></span></p>\n\n<p style="margin: 0px 0px 18px\; padding: 0px\; font-family: Arial\, Helvetica\, sans-serif\; font-size: 12px\; background-color: rgb(246\, 246\, 246)\;"><span style="font-size:12px\;"><span style="font-family:arial\;"><span title="">but beware...this is a double edged sword. This webinar will go over messaging strategies for social media to help your business be contextually relevant while remaining sensitive to the events that are unfolding. Figure out how to develop a rapport with people on social media\, be contextually relevant without going off brand\, and come off as sensitive to people&#39\;s concerns.</span></span></span></p>\n\n<p style="margin: 0px 0px 18px\; padding: 0px\; font-family: Arial\, Helvetica\, sans-serif\; font-size: 12px\; background-color: rgb(246\, 246\, 246)\;"><span style="font-size:12px\;"><span style="font-family:arial\;"><span style="color: rgb(0\, 51\, 0)\;" title="">Presenter:&nbsp\;&nbsp\;Oliver Schultz:&nbsp\;&nbsp\;<span title="">Oliver is the CEO/Founder of Centaur Consulting Group. His expertise with digital marketing and analytics is vast and deep\, He was a top performer at agencies like WordStream where his work was integral to the success some of their largest Google Ad and Facebook Ad accounts. Oliver&rsquo\;s company manage search engine accounts\, create new operations processes\, train new employees\, develop internal service offerings\, and act as a jack of all trades to help resolve any issues as they arise. Besides his zeal for outdoor sports\, he donates his skills to help nonprofits find more success.</span><span title="">&nbsp\;&nbsp\;</span></span></span></span></p>\n
LOCATION:
UID:e.554.4478
SEQUENCE:3
DTSTAMP:20260419T174402Z
URL:https://business.greaterlowellcc.org/events/details/honing-in-your-message-on-social-media-to-be-contextually-relevant-4478
END:VEVENT

END:VCALENDAR
