BEGIN:VCALENDAR
VERSION:2.0
PRODID:-//ChamberMaster//Event Calendar 2.0//EN
METHOD:PUBLISH
X-PUBLISHED-TTL:P3D
REFRESH-INTERVAL:P3D
CALSCALE:GREGORIAN
BEGIN:VEVENT
DTSTART:20200514T150000Z
DTEND:20200514T160000Z
X-MICROSOFT-CDO-ALLDAYEVENT:FALSE
SUMMARY:Highs & Lows Mixer
DESCRIPTION:Join us for a Highs & Lows Mixer! We want to hear your high and low for the week. Let's celebrate and problem-solve together.
X-ALT-DESC;FMTTYPE=text/html:Join us for a Highs &amp\; Lows Mixer! We want to hear your high and low for the week. Let&#39\;s celebrate and problem-solve together.
LOCATION:
UID:e.554.4549
SEQUENCE:3
DTSTAMP:20260419T173312Z
URL:https://business.greaterlowellcc.org/events/details/highs-lows-mixer-4549
END:VEVENT

END:VCALENDAR
