BEGIN:VCALENDAR
VERSION:2.0
PRODID:-//ChamberMaster//Event Calendar 2.0//EN
METHOD:PUBLISH
X-PUBLISHED-TTL:P3D
REFRESH-INTERVAL:P3D
CALSCALE:GREGORIAN
BEGIN:VEVENT
DTSTART:20240404T160000Z
DTEND:20240404T160000Z
X-MICROSOFT-CDO-ALLDAYEVENT:FALSE
SUMMARY:Healthy Lowell: Walking
DESCRIPTION:A seminar held at Dragonfly Cafe to discuss the important effects of walking and how to incorporate it into your daily life! Hosted and presented by Dragonfly Cafe and SLS Fitness.\n\n\n\nRSVP here!
X-ALT-DESC;FMTTYPE=text/html:A seminar held at Dragonfly Cafe to discuss the important effects of walking and how to incorporate it into your daily life! Hosted and presented by Dragonfly Cafe and SLS Fitness.<br />\n<br />\n<a href="https://www.dragonflycafe.org/events"><span style="color:#FF0000\;"><span style="font-size:22px\;"><em><strong>RSVP here!</strong></em></span></span></a><br />\n<br />\n&nbsp\;
LOCATION:165 Thorndike St\, Lowell\, MA 01852
UID:e.554.4923
SEQUENCE:3
DTSTAMP:20260419T124636Z
URL:https://business.greaterlowellcc.org/events/details/healthy-lowell-walking-4923
END:VEVENT

END:VCALENDAR
