BEGIN:VCALENDAR
VERSION:2.0
PRODID:-//ChamberMaster//Event Calendar 2.0//EN
METHOD:PUBLISH
X-PUBLISHED-TTL:P3D
REFRESH-INTERVAL:P3D
CALSCALE:GREGORIAN
BEGIN:VEVENT
DTSTART:20200513T180000Z
DTEND:20200513T190000Z
X-MICROSOFT-CDO-ALLDAYEVENT:FALSE
SUMMARY:Growing your Business with USPS
DESCRIPTION:In this Zoom we will be discussing programs and services that the USPS offers that could benefit your business's growth. We will go over shipping and mailing services and the benefits of each type. We will have a Q/A discussion at the end. Thank you in advance for joining us.
X-ALT-DESC;FMTTYPE=text/html:<span style="color: rgb(50\, 49\, 48)\; font-family: Calibri\; font-size: 14.6667px\;">In this Zoom we will be discussing programs and services that the USPS offers that could benefit your business&rsquo\;s growth. We will go over shipping and mailing services and the benefits of each type. We will have a Q/A discussion at the end. Thank you in advance for joining us.</span>
LOCATION:Password to the Zoom: 909364
UID:e.554.4539
SEQUENCE:3
DTSTAMP:20260419T160308Z
URL:https://business.greaterlowellcc.org/events/details/growing-your-business-with-usps-4539
END:VEVENT

END:VCALENDAR
