BEGIN:VCALENDAR
VERSION:2.0
PRODID:-//ChamberMaster//Event Calendar 2.0//EN
METHOD:PUBLISH
X-PUBLISHED-TTL:P3D
REFRESH-INTERVAL:P3D
CALSCALE:GREGORIAN
BEGIN:VEVENT
DTSTART:20200709T170000Z
DTEND:20200709T180000Z
X-MICROSOFT-CDO-ALLDAYEVENT:FALSE
SUMMARY:Grow With Google: Use YouTube to Grow Your Business
DESCRIPTION:Join Grow with Google Speaker\, Bryan Caplan\, as he shows you how to tap into the power of YouTube.\n\n\n\nGet best practices for creating a YouTube Channel and compelling video content that promotes your products and services and drives engagement with your brand.\n\n\n\nIn this workshop we'll discuss best practices for:\n\n  Understanding different video formats\n\n  How to setup a YouTube channel\n\n  Making good creative\, and how to target and measure the results
X-ALT-DESC;FMTTYPE=text/html:<div data-active-view="true" data-bind="visible:getWebinarInfo().description" data-view="registration/body/body.description" style="box-sizing: border-box\; overflow-wrap: break-word\; font-family: lato-regular\, &quot\;Helvetica Neue&quot\;\, Helvetica\, Arial\, sans-serif\; font-size: 14px\;">\n<div class="description trainingDescription" style="box-sizing: border-box\; overflow-wrap: break-word\; font-family: lato-regular\, HelveticaNeueW01-55Roma\, &quot\;Helvetica Neue&quot\;\, Helvetica\, Arial\, sans-serif\;">\n<div class="clearfix" style="box-sizing: border-box\; overflow-wrap: break-word\;"><span class="registration-description" data-bind="expander:{'expandText': moreButtonText()\, 'userCollapseText': lessButtonText()\, 'text':getWebinarInfo().description}" style="box-sizing: border-box\; overflow-wrap: break-word\; white-space: pre-wrap\;">Join Grow with Google Speaker\, Bryan Caplan\, as he shows you how to tap into the power of YouTube.<br />\n<br />\nGet best practices for creating a YouTube Channel and compelling video content that promotes your products and services and drives engagement with your brand.<br />\n<br />\nIn this workshop we&rsquo\;ll discuss best practices for:<br />\n&bull\; Understanding different video formats<br />\n&bull\; How to setup a YouTube channel<br />\n&bull\; Making good creative\, and how to target and measure the results</span></div>\n</div>\n</div>\n
LOCATION:
UID:e.554.4583
SEQUENCE:3
DTSTAMP:20260419T123024Z
URL:https://business.greaterlowellcc.org/events/details/grow-with-google-use-youtube-to-grow-your-business-4583
END:VEVENT

END:VCALENDAR
