BEGIN:VCALENDAR
VERSION:2.0
PRODID:-//ChamberMaster//Event Calendar 2.0//EN
METHOD:PUBLISH
X-PUBLISHED-TTL:P3D
REFRESH-INTERVAL:P3D
CALSCALE:GREGORIAN
BEGIN:VEVENT
DTSTART:20200413T170000Z
DTEND:20200413T183000Z
X-MICROSOFT-CDO-ALLDAYEVENT:FALSE
SUMMARY:Grow with Google: Reach Customers Online with Google
DESCRIPTION:Join Bryan Caplan\, Speaker for Grow with Google\, for an info-packed webinar dedicated to growing your business online. In this 45-minute webinar\, you'll learn how customers find your business online and how to promote your business using Search Engine Optimization (SEO) and Smart Campaigns in Google Ads.\n\n\n\nLooking to create a Google Tour for your business or organization? Contact Panospin360!
X-ALT-DESC;FMTTYPE=text/html:<span style="font-family: lato-regular\, HelveticaNeueW01-55Roma\, &quot\;Helvetica Neue&quot\;\, Helvetica\, Arial\, sans-serif\; font-size: 14px\; white-space: pre-wrap\;">Join Bryan Caplan\, Speaker for Grow with Google\, for an info-packed webinar dedicated to growing your business online. In this 45-minute webinar\, you&#39\;ll learn how customers find your business online and how to promote your business using Search Engine Optimization (SEO) and Smart Campaigns in Google Ads.</span><br />\n<br />\n<em><strong><span style="font-family: lato-regular\, HelveticaNeueW01-55Roma\, &quot\;Helvetica Neue&quot\;\, Helvetica\, Arial\, sans-serif\; font-size: 14px\; white-space: pre-wrap\;">Looking to create a Google Tour for your business or organization? Contact <a href="https://panospin.com/other-options/">Panospin360</a>!</span></strong></em>
LOCATION:
UID:e.554.4451
SEQUENCE:3
DTSTAMP:20260419T191705Z
URL:https://business.greaterlowellcc.org/events/details/grow-with-google-reach-customers-online-with-google-4451
END:VEVENT

END:VCALENDAR
