BEGIN:VCALENDAR
VERSION:2.0
PRODID:-//ChamberMaster//Event Calendar 2.0//EN
METHOD:PUBLISH
X-PUBLISHED-TTL:P3D
REFRESH-INTERVAL:P3D
CALSCALE:GREGORIAN
BEGIN:VEVENT
DTSTART:20200506T130000Z
DTEND:20200506T140000Z
X-MICROSOFT-CDO-ALLDAYEVENT:FALSE
SUMMARY:Grow with Google: Manage Your Business Remotely in Times of Uncertainty
DESCRIPTION:Discover tools\, tips and resources to help you manage your business remotely during the COVID-19 crisis. Learn how to update critical business information online to keep customers informed\, host virtual meetings and events\, and access documents from anywhere. We'll also share the latest resources from Google and other partners to help support small businesses.
X-ALT-DESC;FMTTYPE=text/html:<span style="color: rgb(84\, 84\, 84)\; font-family: Roboto\, sans-serif\; font-size: 16px\;">Discover tools\, tips and resources to help you manage your business remotely during the COVID-19 crisis. Learn how to update critical business information online to keep customers informed\, host virtual meetings and events\, and access documents from anywhere. We&rsquo\;ll also share the latest resources from Google and other partners to help support small businesses.</span>
LOCATION:
UID:e.554.4487
SEQUENCE:3
DTSTAMP:20260419T161007Z
URL:https://business.greaterlowellcc.org/events/details/grow-with-google-manage-your-business-remotely-in-times-of-uncertainty-4487
END:VEVENT

END:VCALENDAR
