BEGIN:VCALENDAR
VERSION:2.0
PRODID:-//ChamberMaster//Event Calendar 2.0//EN
METHOD:PUBLISH
X-PUBLISHED-TTL:P3D
REFRESH-INTERVAL:P3D
CALSCALE:GREGORIAN
BEGIN:VEVENT
DTSTART:20200427T170000Z
DTEND:20200427T180000Z
X-MICROSOFT-CDO-ALLDAYEVENT:FALSE
SUMMARY:Grow with Google Event: Using Data to Drive Business Growth
DESCRIPTION:Join Bryan Caplan\, Speaker for Grow with Google\, for an info-packed webinar dedicated to growing your business online. In this 45-minute webinar\, you'll learn best practices and analyze trends about how customers engage with your business online\, then turn these insights into well-informed\, actionable decisions. A focus on Google Analytics and how to use this tool to make better business decisions. \n\n\n\nLooking to create a Google Tour for your business or organization? Contact Panospin360!
X-ALT-DESC;FMTTYPE=text/html:<span style="font-family: lato-regular\, HelveticaNeueW01-55Roma\, &quot\;Helvetica Neue&quot\;\, Helvetica\, Arial\, sans-serif\; font-size: 14px\; white-space: pre-wrap\;">Join Bryan Caplan\, Speaker for Grow with Google\, for an info-packed webinar dedicated to growing your business online. In this 45-minute webinar\, you&#39\;ll learn best practices and analyze trends about how customers engage with your business online\, then turn these insights into well-informed\, actionable decisions. A focus on Google Analytics and how to use this tool to make better business decisions. </span><br />\n<br />\n<em><strong><span style="font-family: lato-regular\, HelveticaNeueW01-55Roma\, &quot\;Helvetica Neue&quot\;\, Helvetica\, Arial\, sans-serif\; font-size: 14px\; white-space: pre-wrap\;">Looking to create a Google Tour for your business or organization? Contact <a href="https://panospin.com/other-options/">Panospin360</a>!</span></strong></em>
LOCATION:
UID:e.554.4471
SEQUENCE:3
DTSTAMP:20260419T191634Z
URL:https://business.greaterlowellcc.org/events/details/grow-with-google-event-using-data-to-drive-business-growth-4471
END:VEVENT

END:VCALENDAR
