BEGIN:VCALENDAR
VERSION:2.0
PRODID:-//ChamberMaster//Event Calendar 2.0//EN
METHOD:PUBLISH
X-PUBLISHED-TTL:P3D
REFRESH-INTERVAL:P3D
CALSCALE:GREGORIAN
BEGIN:VEVENT
DTSTART:20200420T170000Z
DTEND:20200420T180000Z
X-MICROSOFT-CDO-ALLDAYEVENT:FALSE
SUMMARY:Grow with Google Event: Get Your Local Business on Google Search and Maps
DESCRIPTION:Join Bryan Caplan\, Speaker for Grow with Google\, for an info-packed webinar dedicated to growing your business online. In this 45-minute webinar\, you'll learn about Google My Business\, a free tool for local businesses who want to connect with customers on Google Search and Maps. Get hands-on help creating or updating your business profile or a simple website. In this workshop we'll discuss best practices for:\n\n  Create or claim your Business Profile on Google\n\n  Manage your business info across Google Search and Maps\n\n  Use Google My Business to connect with potential customers\n\n\n\nLooking to create a Google Tour for your business or organization? Contact Panospin360!
X-ALT-DESC;FMTTYPE=text/html:<span style="font-family: lato-regular\, HelveticaNeueW01-55Roma\, &quot\;Helvetica Neue&quot\;\, Helvetica\, Arial\, sans-serif\; font-size: 14px\; white-space: pre-wrap\;">Join Bryan Caplan\, Speaker for Grow with Google\, for an info-packed webinar dedicated to growing your business online. In this 45-minute webinar\, you&#39\;ll learn about Google My Business\, a free tool for local businesses who want to connect with customers on Google Search and Maps. Get hands-on help creating or updating your business profile or a simple website. In this workshop we&rsquo\;ll discuss best practices for:<br />\n&bull\; Create or claim your Business Profile on Google<br />\n&bull\; Manage your business info across Google Search and Maps<br />\n&bull\; Use Google My Business to connect with potential customers</span><br />\n<br />\n<em><strong><span style="font-family: lato-regular\, HelveticaNeueW01-55Roma\, &quot\;Helvetica Neue&quot\;\, Helvetica\, Arial\, sans-serif\; font-size: 14px\; white-space: pre-wrap\;">Looking to create a Google Tour for your business or organization? Contact <a href="https://panospin.com/other-options/">Panospin360</a>!</span></strong></em>
LOCATION:
UID:e.554.4470
SEQUENCE:3
DTSTAMP:20260419T175023Z
URL:https://business.greaterlowellcc.org/events/details/grow-with-google-event-get-your-local-business-on-google-search-and-maps-4470
END:VEVENT

END:VCALENDAR
