BEGIN:VCALENDAR
VERSION:2.0
PRODID:-//ChamberMaster//Event Calendar 2.0//EN
METHOD:PUBLISH
X-PUBLISHED-TTL:P3D
REFRESH-INTERVAL:P3D
CALSCALE:GREGORIAN
BEGIN:VEVENT
DTSTART:20200406T170000Z
DTEND:20200406T180000Z
X-MICROSOFT-CDO-ALLDAYEVENT:FALSE
SUMMARY:Grow with Google Event: Digital Skills for Everyday Tasks
DESCRIPTION:Join National Trainer\, Bryan Caplan\, as he shows you how to manage work and life tasks more effectively using Google tools. Whether you want to build a budget\, create a meeting agenda or organize your priorities\, these best practices will boost your productivity while working remote.\n\n	Use templates in Google Sheets to build a personalized to-do list\n	Use templates in Google Docs to create a meeting agenda\n\nLooking to create a Google Tour for your business or organization? Contact Panospin360!
X-ALT-DESC;FMTTYPE=text/html:<span style="font-family: lato-regular\, HelveticaNeueW01-55Roma\, &quot\;Helvetica Neue&quot\;\, Helvetica\, Arial\, sans-serif\; font-size: 14px\; white-space: pre-wrap\;">Join National Trainer\, Bryan Caplan\, as he shows you how to manage work and life tasks more effectively using Google tools. Whether you want to build a budget\, create a meeting agenda or organize your priorities\, these best practices will boost your productivity while working remote.</span>\n<ul>\n	<li><span style="font-family: lato-regular\, HelveticaNeueW01-55Roma\, &quot\;Helvetica Neue&quot\;\, Helvetica\, Arial\, sans-serif\; font-size: 14px\; white-space: pre-wrap\;">Use templates in Google Sheets to build a personalized to-do list</span></li>\n	<li><span style="font-family: lato-regular\, HelveticaNeueW01-55Roma\, &quot\;Helvetica Neue&quot\;\, Helvetica\, Arial\, sans-serif\; font-size: 14px\; white-space: pre-wrap\;"><span style="font-family: lato-regular\, HelveticaNeueW01-55Roma\, &quot\;Helvetica Neue&quot\;\, Helvetica\, Arial\, sans-serif\; font-size: 14px\; white-space: pre-wrap\;">Use templates in Google Docs to create a meeting agenda</span></span></li>\n</ul>\n<em><strong><span style="font-family: lato-regular\, HelveticaNeueW01-55Roma\, &quot\;Helvetica Neue&quot\;\, Helvetica\, Arial\, sans-serif\; font-size: 14px\; white-space: pre-wrap\;">Looking to create a Google Tour for your business or organization? Contact <a href="https://panospin.com/other-options/">Panospin360</a>!</span></strong></em>
LOCATION:
UID:e.554.4464
SEQUENCE:3
DTSTAMP:20260419T174429Z
URL:https://business.greaterlowellcc.org/events/details/grow-with-google-event-digital-skills-for-everyday-tasks-4464
END:VEVENT

END:VCALENDAR
