BEGIN:VCALENDAR
VERSION:2.0
PRODID:-//ChamberMaster//Event Calendar 2.0//EN
METHOD:PUBLISH
X-PUBLISHED-TTL:P3D
REFRESH-INTERVAL:P3D
CALSCALE:GREGORIAN
BEGIN:VEVENT
DTSTART;VALUE=DATE:20200503
DTEND;VALUE=DATE:20200510
TRANSP:TRANSPARENT
X-MICROSOFT-CDO-ALLDAYEVENT:TRUE
SUMMARY:Greater Lowell Spirit Week
DESCRIPTION:Join us as we celebrate our community pride with a socially distanced spirit week! \n\nLet's flood our newsfeeds with positivity and show everyone why Greater Lowell is such an amazing place to live\, work\, play\, and go to school!\n\n\n\nYou can find all the details here and also be sure to click that you are Going on the Facebook Event page! And be sure to use hashtag #GreaterLowellSpirit!
X-ALT-DESC;FMTTYPE=text/html:<h2 style="text-align: center\;"><strong>Join us as we celebrate our community pride with a socially distanced spirit week!&nbsp\;</strong></h2>\n\n<p>Let&#39\;s flood our newsfeeds with positivity and show everyone why Greater Lowell is such an amazing place to live\, work\, play\, and go to school!<br />\n<br />\nYou can find <a href="https://greaterlowellcc.org/2020/04/greater-lowell-spirit-week/">all the details here</a> and also be sure to click that you are Going on the <a href="https://www.facebook.com/events/2454531831523889/">Facebook Event page</a>! And be sure to use hashtag #GreaterLowellSpirit!</p>\n
LOCATION:
UID:e.554.4517
SEQUENCE:3
DTSTAMP:20260419T160226Z
URL:https://business.greaterlowellcc.org/events/details/greater-lowell-spirit-week-4517
END:VEVENT

END:VCALENDAR
