BEGIN:VCALENDAR
VERSION:2.0
PRODID:-//ChamberMaster//Event Calendar 2.0//EN
METHOD:PUBLISH
X-PUBLISHED-TTL:P3D
REFRESH-INTERVAL:P3D
CALSCALE:GREGORIAN
BEGIN:VEVENT
DTSTART:20200206T213000Z
DTEND:20200206T230000Z
X-MICROSOFT-CDO-ALLDAYEVENT:FALSE
SUMMARY:Grand Opening for Recovery Cafe Lowell
DESCRIPTION:Please join Lowell House Addiction Treatment and Recovery (LHATR) to celebrate the Open House of Recovery Cafe Lowell: A Refuge for Healing & Hope.\n\n\n\nRibbon Cutting Ceremony at 5:30pm.\n\n\n\nRefreshments will be served.
X-ALT-DESC;FMTTYPE=text/html:Please join <a href="http://lowellhouseinc.org/">Lowell House Addiction Treatment and Recovery</a>&nbsp\;(LHATR) to celebrate the Open House of Recovery Cafe Lowell: A Refuge for Healing &amp\; Hope.<br />\n<br />\nRibbon Cutting Ceremony at 5:30pm.<br />\n<br />\nRefreshments will be served.&nbsp\;
LOCATION:20 Williams Street Lowell\, MA
UID:e.554.4437
SEQUENCE:3
DTSTAMP:20260419T223229Z
URL:https://business.greaterlowellcc.org/events/details/grand-opening-for-recovery-cafe-lowell-4437
END:VEVENT

END:VCALENDAR
