BEGIN:VCALENDAR
VERSION:2.0
PRODID:-//ChamberMaster//Event Calendar 2.0//EN
METHOD:PUBLISH
X-PUBLISHED-TTL:P3D
REFRESH-INTERVAL:P3D
CALSCALE:GREGORIAN
BEGIN:VEVENT
DTSTART:20200428T150000Z
DTEND:20200428T160000Z
X-MICROSOFT-CDO-ALLDAYEVENT:FALSE
SUMMARY:GLCC Member ZOOM
DESCRIPTION:Join us for a GLCC Member ZOOM! Network with members from the comfort of your home. Casual attire encouraged. \;-) \n\n\n\nPlease RSVP for the Zoom link!
X-ALT-DESC;FMTTYPE=text/html:Join us for a GLCC Member ZOOM! Network with members from the comfort of your home. Casual attire encouraged. \;-)&nbsp\;<br />\n<br />\nPlease RSVP for the Zoom link!&nbsp\;
LOCATION:
UID:e.554.4514
SEQUENCE:3
DTSTAMP:20260419T173311Z
URL:https://business.greaterlowellcc.org/events/details/glcc-member-zoom-4514
END:VEVENT

END:VCALENDAR
