BEGIN:VCALENDAR
VERSION:2.0
PRODID:-//ChamberMaster//Event Calendar 2.0//EN
METHOD:PUBLISH
X-PUBLISHED-TTL:P3D
REFRESH-INTERVAL:P3D
CALSCALE:GREGORIAN
BEGIN:VEVENT
DTSTART:20200331T173000Z
DTEND:20200331T183000Z
X-MICROSOFT-CDO-ALLDAYEVENT:FALSE
SUMMARY:GLCC Member ZOOM
DESCRIPTION:Join us for a GLCC Member ZOOM! Network with members from the comfort of your home. Casual attire encouraged. \;-) \n\n\n\nJoin Zoom Meeting Here: https://zoom.us/j/304596641\n\n\n\nMeeting ID: 304 596 641\n\n\n\nOne tap mobile: +19294362866\,\,304596641# US (New York)\n\n\n\nDial by your location: +1 929 436 2866 US (New York)\n\n    \n\nMeeting ID: 304 596 641
X-ALT-DESC;FMTTYPE=text/html:Join us for a GLCC Member ZOOM! Network with members from the comfort of your home. Casual attire encouraged. \;-)&nbsp\;<br />\n<br />\nJoin Zoom Meeting Here: <a href="https://zoom.us/j/304596641">https://zoom.us/j/304596641</a><br />\n<br />\nMeeting ID: 304 596 641<br />\n<br />\nOne tap mobile: +19294362866\,\,304596641# US (New York)<br />\n<br />\nDial by your location: +1 929 436 2866 US (New York)<br />\n&nbsp\; &nbsp\;&nbsp\;<br />\nMeeting ID: 304 596 641
LOCATION:
UID:e.554.4466
SEQUENCE:3
DTSTAMP:20260419T204819Z
URL:https://business.greaterlowellcc.org/events/details/glcc-member-zoom-4466
END:VEVENT

END:VCALENDAR
