BEGIN:VCALENDAR
VERSION:2.0
PRODID:-//ChamberMaster//Event Calendar 2.0//EN
METHOD:PUBLISH
X-PUBLISHED-TTL:P3D
REFRESH-INTERVAL:P3D
CALSCALE:GREGORIAN
BEGIN:VEVENT
DTSTART:20200429T140000Z
DTEND:20200429T160000Z
X-MICROSOFT-CDO-ALLDAYEVENT:FALSE
SUMMARY:Funding Options - What to consider and Where to Find It
DESCRIPTION:Getting a new business off the ground is hard and often needs some capital. Where can you get that money\, and how much will it cost you? Are your funding expectations realistic? Jessica McLear and Ben Littauer are experienced angel investors and business mentors who will guide you through the options.
X-ALT-DESC;FMTTYPE=text/html:<strong style="font-family: Arial\, Helvetica\, sans-serif\; font-size: 12px\; background-color: rgb(246\, 246\, 246)\; color: rgb(0\, 0\, 128)\;">Getting a new business off the ground is hard and often needs some capital. Where can you get that money\, and how much will it cost you? Are your funding expectations realistic? Jessica McLear and Ben Littauer are experienced angel investors and business mentors who will guide you through the options.</strong>
LOCATION:
UID:e.554.4479
SEQUENCE:3
DTSTAMP:20260419T174732Z
URL:https://business.greaterlowellcc.org/events/details/funding-options-what-to-consider-and-where-to-find-it-4479
END:VEVENT

END:VCALENDAR
