BEGIN:VCALENDAR
VERSION:2.0
PRODID:-//ChamberMaster//Event Calendar 2.0//EN
METHOD:PUBLISH
X-PUBLISHED-TTL:P3D
REFRESH-INTERVAL:P3D
CALSCALE:GREGORIAN
BEGIN:VEVENT
DTSTART;VALUE=DATE:20200320
DTEND;VALUE=DATE:20200422
TRANSP:TRANSPARENT
X-MICROSOFT-CDO-ALLDAYEVENT:TRUE
SUMMARY:Five Star Frenzy
DESCRIPTION:Looking for ways you can help local businesses and organizations during this time of uncertainty? Leave them a review on Facebook\, Google and/or Yelp! This will greatly help them long term.\n\n\n\nOnce you leave a review\, take a screenshot and post it on social media using hashtag #GLCCFiveStarFrenzy.\n\n\n\nFor COVID-19 Resources\, please click here.
X-ALT-DESC;FMTTYPE=text/html:Looking for ways you can help local businesses and organizations during this time of uncertainty? Leave them a review on Facebook\, Google and/or Yelp! This will greatly help them long term.<br />\n<br />\nOnce you leave a review\, take a screenshot and post it on social media using hashtag #GLCCFiveStarFrenzy.<br />\n<br />\nFor COVID-19 Resources\, <a href="https://greaterlowellcc.org/2020/03/covid19-coronavirus-resources/">please click here</a>.
LOCATION:
UID:e.554.4456
SEQUENCE:3
DTSTAMP:20260419T191338Z
URL:https://business.greaterlowellcc.org/events/details/five-star-frenzy-4456
END:VEVENT

END:VCALENDAR
