BEGIN:VCALENDAR
VERSION:2.0
PRODID:-//ChamberMaster//Event Calendar 2.0//EN
METHOD:PUBLISH
X-PUBLISHED-TTL:P3D
REFRESH-INTERVAL:P3D
CALSCALE:GREGORIAN
BEGIN:VEVENT
DTSTART:20200506T150000Z
DTEND:20200506T160000Z
X-MICROSOFT-CDO-ALLDAYEVENT:FALSE
SUMMARY:Finding Inspiration Despite Social Isolation
DESCRIPTION:As humans\, we are naturally social creatures.  We exist best when we are within communities.  A crisis like this can leave us feeling afraid of our lack of control and what the future may bring.  Social distancing is not part of our DNA\, however it has fast become a necessity.  At the same time\, we are bombarded daily with new and sometimes conflicting information which can be overwhelming.  Without having clear answers or direction or knowing how long the need for isolation will persist\, how can we energize and inspire not only ourselves but others and maintain positive spirits during these unprecedented times.  Join us for this conversation as we discuss:\n\n\n\n	Ways to inspire ourselves while isolated\n	Ways to inspire others during this current situation\n	Ways to stay inspired and positive when constantly bombarded with negative news and information and the duration of isolation is unknown
X-ALT-DESC;FMTTYPE=text/html:<div style="margin: 0px\; padding: 0px\; font-family: Arial\, Helvetica\, sans-serif\; font-size: 12px\; background-color: rgb(228\, 228\, 227)\;">As humans\, we are naturally social creatures.&nbsp\; We exist best when we are within communities.&nbsp\; A crisis like this can leave us feeling afraid of our lack of control and what the future may bring.&nbsp\; Social distancing is not part of our DNA\, however it has fast become a necessity.&nbsp\; At the same time\, we are bombarded daily with new and sometimes conflicting information which can be overwhelming.&nbsp\; Without having clear answers or direction or knowing how long the need for isolation will persist\, how can we energize and inspire not only ourselves but others and maintain positive spirits during these unprecedented times.&nbsp\; Join us for this conversation as we discuss:</div>\n\n<div style="margin: 0px\; padding: 0px\; font-family: Arial\, Helvetica\, sans-serif\; font-size: 12px\; background-color: rgb(228\, 228\, 227)\;">\n<ul style="margin: 18px 0px 18px 18px\; padding-right: 0px\; padding-left: 0px\; list-style-position: outside\; list-style-image: initial\;">\n	<li style="margin: 0px\; padding: 0px\;">Ways to inspire ourselves while isolated</li>\n	<li style="margin: 0px\; padding: 0px\;">Ways to inspire others during this current situation</li>\n	<li style="margin: 0px\; padding: 0px\;">Ways to stay inspired and positive when constantly bombarded with negative news and information and the duration of isolation is unknown</li>\n</ul>\n</div>\n
LOCATION:
UID:e.554.4532
SEQUENCE:3
DTSTAMP:20260419T155152Z
URL:https://business.greaterlowellcc.org/events/details/finding-inspiration-despite-social-isolation-4532
END:VEVENT

END:VCALENDAR
