BEGIN:VCALENDAR
VERSION:2.0
PRODID:-//ChamberMaster//Event Calendar 2.0//EN
METHOD:PUBLISH
X-PUBLISHED-TTL:P3D
REFRESH-INTERVAL:P3D
CALSCALE:GREGORIAN
BEGIN:VEVENT
DTSTART:20200505T173000Z
DTEND:20200505T183000Z
X-MICROSOFT-CDO-ALLDAYEVENT:FALSE
SUMMARY:Facebook Fundraising for Nonprofits
DESCRIPTION:This is the class for nonprofit employees\, board members\, and cheerleaders! Learn the different ways you can fundraise using Facebook's Fundraising platform and how you can engage your followers and friends and inspire them to give to support your mission!\n\n\n\n*** This is open to ANYONE who wants to learn a new skill! *** Here's the Facebook event page\, please invite your friends!
X-ALT-DESC;FMTTYPE=text/html:This is the class for nonprofit employees\, board members\, and cheerleaders! Learn the different ways you can fundraise using Facebook&#39\;s Fundraising platform and how you can engage your followers and friends and inspire them to give to support your mission!<br />\n<br />\n<span style="color: rgb(28\, 30\, 33)\; font-family: system-ui\, -apple-system\, system-ui\, &quot\;.SFNSText-Regular&quot\;\, sans-serif\; font-size: 12px\; white-space: pre-wrap\;">*** This is open to ANYONE who wants to learn a new skill! *** <a href="https://www.facebook.com/events/514173926155471/">Here&#39\;s the Facebook event page\, please invite your friends! </a></span>
LOCATION:
UID:e.554.4500
SEQUENCE:3
DTSTAMP:20260419T173433Z
URL:https://business.greaterlowellcc.org/events/details/facebook-fundraising-for-nonprofits-4500
END:VEVENT

END:VCALENDAR
