BEGIN:VCALENDAR
VERSION:2.0
PRODID:-//ChamberMaster//Event Calendar 2.0//EN
METHOD:PUBLISH
X-PUBLISHED-TTL:P3D
REFRESH-INTERVAL:P3D
CALSCALE:GREGORIAN
BEGIN:VEVENT
DTSTART:20200402T150000Z
DTEND:20200402T160000Z
X-MICROSOFT-CDO-ALLDAYEVENT:FALSE
SUMMARY:EforAll Event: Sales & Marketing Right Now
DESCRIPTION:Brought to you by EforAll\n\n\n\nOur Guest Specialists This Week:\n\nDan Shea\, Founder and Managing Partner of Park & Forbes LLC\, a sales management consultancy\, EforAll South Coast mentor & specialist\n\nNoah Cook-Dubin\, Strategic Marketing Consultant (and former Googler)\, EforAll Berkshire County mentor\n\nMarketing & Sales Right Now:  What can you do when everyone is staying home? \n\nHow can you continue to reach out to existing and new customers when everyone is just in survival mode? What makes sense when you can't open your storefront anymore? How do you message effectively but with great sensitivity?  What if you've never used online media for marketing before how can you jump on quickly? We all want to maintain our business and revenue streams\, but knowing how to navigate this can be overwhelming. Bring all your sales and marketing questions for this virtual workshop.  \n\nNOTE: You can send your questions ahead of time to berkshire-county@eforall.org  or ask them live on the
X-ALT-DESC;FMTTYPE=text/html:<p style="box-sizing: border-box\; margin: 0px 0px 1.5rem\; font-family: nunito\, sans-serif\; font-size: 17px\;"><em>Brought to you by <a href="https://eforall.org/covid-19-coping-webinars/?utm_source=EforAll+National+Newsletter&amp\;utm_campaign=b63a0e328c-EMAIL_CAMPAIGN_2020_03_30_03_28&amp\;utm_medium=email&amp\;utm_term=0_991923920a-b63a0e328c-150880633">EforAll</a></em><br />\n<br />\n<span style="box-sizing: border-box\; font-weight: 700\;">Our Guest Specialists This Week:</span></p>\n\n<p style="box-sizing: border-box\; margin: 0px 0px 1.5rem\; font-family: nunito\, sans-serif\; font-size: 17px\;"><span style="box-sizing: border-box\; font-weight: 700\;">Dan Shea\,</span>&nbsp\;Founder and Managing Partner of Park &amp\; Forbes LLC\, a sales management consultancy\,&nbsp\;<span style="box-sizing: border-box\;">EforAll South Coast mentor &amp\; specialist</span></p>\n\n<p style="box-sizing: border-box\; margin: 0px 0px 1.5rem\; font-family: nunito\, sans-serif\; font-size: 17px\;"><span style="box-sizing: border-box\; font-weight: 700\;">Noah Cook-Dubin\,&nbsp\;</span>Strategic Marketing Consultant (and former Googler)\,&nbsp\;<span style="box-sizing: border-box\;">EforAll Berkshire County mentor</span></p>\n\n<p style="box-sizing: border-box\; margin: 0px 0px 1.5rem\; font-family: nunito\, sans-serif\; font-size: 17px\;"><span style="box-sizing: border-box\; font-weight: 700\;">Marketing &amp\; Sales Right Now:&nbsp\; What can you do when everyone is staying home?&nbsp\;</span></p>\n\n<p style="box-sizing: border-box\; margin: 0px 0px 1.5rem\; font-family: nunito\, sans-serif\; font-size: 17px\;"><span style="box-sizing: border-box\;">How can you continue to reach out to existing and new customers when everyone is just in survival mode? What makes sense when you can&rsquo\;t open your storefront anymore? How do you message effectively but with great sensitivity?&nbsp\; What if you&rsquo\;ve never used online media for marketing before&mdash\;how can you jump on quickly? We all want to maintain our business and revenue streams\, but knowing how to navigate this can be overwhelming. Bring all your sales and marketing questions for this virtual workshop.&nbsp\;&nbsp\;</span></p>\n\n<p style="box-sizing: border-box\; margin: 0px\; font-family: nunito\, sans-serif\; font-size: 17px\;"><i style="box-sizing: border-box\;">NOTE: You can send your questions ahead of time to&nbsp\;</i><a href="mailto:berkshire-county@eforall.org" style="box-sizing: border-box\; text-decoration-line: none\; background: 0px 0px\; transition-property: background\, box-shadow\, border\, color\, opacity\, transform\; transition-duration: 0.3s\; color: rgb(0\, 160\, 204)\; outline: 0px !important\;"><i style="box-sizing: border-box\;">berkshire-county@eforall.org</i></a><i style="box-sizing: border-box\;">&nbsp\; or ask them live on the&nbsp\;</i></p>\n
LOCATION:
UID:e.554.4476
SEQUENCE:3
DTSTAMP:20260419T192419Z
URL:https://business.greaterlowellcc.org/events/details/eforall-event-sales-marketing-right-now-4476
END:VEVENT

END:VCALENDAR
