BEGIN:VCALENDAR
VERSION:2.0
PRODID:-//ChamberMaster//Event Calendar 2.0//EN
METHOD:PUBLISH
X-PUBLISHED-TTL:P3D
REFRESH-INTERVAL:P3D
CALSCALE:GREGORIAN
BEGIN:VEVENT
DTSTART:20200522T140000Z
DTEND:20200522T150000Z
X-MICROSOFT-CDO-ALLDAYEVENT:FALSE
SUMMARY:Customers After COVID-19: Restaurant and Retail Recovery Strategies
DESCRIPTION:Join the Middlesex 3 Coalition\, Retail Visioning\, the Greater Lowell Chamber of Commerce\, Burlington Area Chamber of Commerce \, Massachusetts Office of Business Development\, Entrepreneurship Center at CTI  and the Nashoba Valley Chamber of Commerce as we host a webinar on: \n\n\n\nCustomers After COVID-19: Restaurant and Retail Recovery Strategies  \n\n\n\nThis is a panel discussion on how to 're-launch' your restaurant or retail business after the COVID19 pandemic. We will be incorporating Governor Baker's reopening plan. \n\n \n\nWe will hear from Chris Moynihan from Retail Visioning\, Franky Descoteaux from the Entrepreneurship Center at CTI\, Danielle McFadden from the Greater Lowell Chamber of Commerce and Rick Parker from the Burlington Area Chamber of Commerce.\n\n \n\nTopics include:\n\n \n\n- Your customer's perception is your reality - dealing with customers again after isolation\, economic hardship and cabin fever\,\n\n \n\n- How to best align your business with the Governor's guidance\, best strategies moving forward\,\n\n \n\n- Building your relaunch plan - and managing the first few weeks\,\n\n \n\n-Marketing your business and communicating information about your relaunch. \n\n\n\n \n\n \n\nThere are only 100 seats available for this webinar.\n\n \n\nWe will send conference call information before the event.
X-ALT-DESC;FMTTYPE=text/html:<div align="center" style="color: rgb(0\, 0\, 0)\; font-family: Arial\, Helvetica\, sans-serif\; font-size: 18pt\;">\n<div style="font-size: 12pt\; font-family: Tahoma\, Arial\, sans-serif\;"><span style="color: rgb(0\, 0\, 0)\; font-family: Tahoma\, Arial\, sans-serif\; font-size: 16px\; text-align: -webkit-center\;">Join the&nbsp\;</span><a alt="http://www.middlesex3.com" href="http://www.middlesex3.com/" linktype="1" shape="rect" style="font-family: Tahoma\, Arial\, sans-serif\; font-size: 16px\; text-align: -webkit-center\; color: rgb(0\, 0\, 255)\;" target="_blank" track="on">Middlesex 3 Coalition</a><span style="color: rgb(0\, 0\, 0)\; font-family: Tahoma\, Arial\, sans-serif\; font-size: 16px\; text-align: -webkit-center\;">\,&nbsp\;</span><a alt="http://www.retailvisioningonline.com/" href="http://www.retailvisioningonline.com/" linktype="1" shape="rect" style="font-family: Tahoma\, Arial\, sans-serif\; font-size: 16px\; text-align: -webkit-center\; color: blue\;" target="_blank" track="on">Retail Visioning</a><span style="color: rgb(0\, 0\, 0)\; font-family: Tahoma\, Arial\, sans-serif\; font-size: 16px\; text-align: -webkit-center\;">\, the&nbsp\;</span><a alt="http://www.greaterlowellcc.org" href="http://www.greaterlowellcc.org/" linktype="1" shape="rect" style="font-family: Tahoma\, Arial\, sans-serif\; font-size: 16px\; text-align: -webkit-center\; color: rgb(0\, 0\, 255)\;" target="_blank" track="on">Greater Lowell Chamber of Commerce</a><span style="color: rgb(0\, 0\, 0)\; font-family: Tahoma\, Arial\, sans-serif\; font-size: 16px\; text-align: -webkit-center\;">\,&nbsp\;</span><span color="#000025" style="font-family: Tahoma\, Arial\, sans-serif\; font-size: 16px\; text-align: -webkit-center\; text-decoration-line: underline\; color: rgb(0\, 0\, 37)\;"><a alt="https://www.burlingtonchamberofcommerce.org/" href="https://www.burlingtonchamberofcommerce.org/" linktype="1" shape="rect" style="color: blue\;" target="_blank" track="on">Burlington Area Chamber of Commerce</a>&nbsp\;</span><span color="#000025" style="font-family: Tahoma\, Arial\, sans-serif\; font-size: 16px\; text-align: -webkit-center\; color: rgb(0\, 0\, 37)\;">\,&nbsp\;</span><a alt="https://www.mass.gov/orgs/massachusetts-office-of-business-development" href="https://www.mass.gov/orgs/massachusetts-office-of-business-development" linktype="1" shape="rect" style="font-family: Tahoma\, Arial\, sans-serif\; font-size: 16px\; text-align: -webkit-center\; color: rgb(30\, 75\, 253)\;" target="_blank" track="on">Massachusetts Office of Business Development</a><span style="color: rgb(0\, 0\, 0)\; font-family: Tahoma\, Arial\, sans-serif\; font-size: 16px\; text-align: -webkit-center\;">\,&nbsp\;</span><a alt="https://www.growyourbusinessatcti.org/" href="https://www.growyourbusinessatcti.org/" linktype="1" shape="rect" style="font-family: Tahoma\, Arial\, sans-serif\; font-size: 16px\; text-align: -webkit-center\; color: blue\;" target="_blank" track="on">Entrepreneurship Center at CTI&nbsp\;</a><span style="color: rgb(0\, 0\, 0)\; font-family: Tahoma\, Arial\, sans-serif\; font-size: 16px\; text-align: -webkit-center\;">&nbsp\;and the&nbsp\;</span><a alt="https://www.nvcoc.com/" href="https://www.nvcoc.com/" linktype="1" shape="rect" style="font-family: Tahoma\, Arial\, sans-serif\; font-size: 16px\; text-align: -webkit-center\; color: blue\;" target="_blank" track="on">Nashoba Valley Chamber of Commerce</a><span style="color: rgb(0\, 0\, 0)\; font-family: Tahoma\, Arial\, sans-serif\; font-size: 16px\; text-align: -webkit-center\;">&nbsp\;as we&nbsp\;host a webinar on:&nbsp\;</span><br />\n<br />\n<strong>Customers After COVID-19: Restaurant and Retail Recovery Strategies&nbsp\;&#8203\;</strong><br />\n<br />\n<span style="color: rgb(35\, 35\, 51)\; text-align: start\;">This is a panel discussion on how to &#39\;re-launch&#39\; your restaurant or retail business after the COVID19 pandemic. We will be incorporating Governor Baker&#39\;s reopening plan.</span>&nbsp\;</div>\n\n<div style="font-size: 12pt\; font-family: Tahoma\, Arial\, sans-serif\;">&nbsp\;</div>\n\n<div style="font-size: 12pt\; font-family: Tahoma\, Arial\, sans-serif\;">We will hear from Chris Moynihan from Retail Visioning\, Franky&nbsp\;Descoteaux&nbsp\;from the Entrepreneurship Center at CTI\, Danielle McFadden from the Greater Lowell Chamber of Commerce and Rick Parker from the Burlington Area Chamber of Commerce.</div>\n\n<div style="font-size: 12pt\; font-family: Tahoma\, Arial\, sans-serif\;">&nbsp\;</div>\n\n<div style="font-size: 12pt\; font-family: Tahoma\, Arial\, sans-serif\;"><strong>Topics include:</strong></div>\n\n<div style="font-size: 12pt\; font-family: Tahoma\, Arial\, sans-serif\;">&nbsp\;</div>\n\n<div style="font-size: 12pt\; font-family: Tahoma\, Arial\, sans-serif\;">-&nbsp\;<span style="font-size: 12pt\;">Your customer&#39\;s perception is your reality - dealing with customers again after isolation\, economic hardship and cabin fever\,</span></div>\n\n<div style="font-size: 12pt\; font-family: Tahoma\, Arial\, sans-serif\;">&nbsp\;</div>\n\n<div style="font-size: 12pt\; font-family: Tahoma\, Arial\, sans-serif\;">-&nbsp\;How to best align your business with the Governor&#39\;s guidance\, best strategies moving forward\,</div>\n\n<div style="font-size: 12pt\; font-family: Tahoma\, Arial\, sans-serif\;">&nbsp\;</div>\n\n<div style="font-size: 12pt\; font-family: Tahoma\, Arial\, sans-serif\;">-&nbsp\;Building your relaunch plan - and managing the first few weeks\,</div>\n\n<div style="font-size: 12pt\; font-family: Tahoma\, Arial\, sans-serif\;">&nbsp\;</div>\n\n<div style="font-size: 12pt\; font-family: Tahoma\, Arial\, sans-serif\;">-Marketing your business and communicating information about your relaunch.&nbsp\;</div>\n</div>\n\n<div align="center" style="color: rgb(0\, 0\, 0)\; font-family: Arial\, Helvetica\, sans-serif\; font-size: 18pt\;">\n<div style="margin-left: 30px\; font-size: 12pt\; font-family: Tahoma\, Arial\, sans-serif\;">&nbsp\;</div>\n\n<div style="font-size: 12pt\; font-family: Tahoma\, Arial\, sans-serif\;">&nbsp\;</div>\n\n<div style="font-size: 12pt\; font-family: Tahoma\, Arial\, sans-serif\;"><strong>There are only 100 seats available for this webinar.</strong></div>\n\n<div style="font-size: 12pt\; font-family: Tahoma\, Arial\, sans-serif\;">&nbsp\;</div>\n\n<div style="margin-left: 30px\; font-size: 12pt\; font-family: Tahoma\, Arial\, sans-serif\;">We will send conference call information before the event.</div>\n</div>\n
LOCATION:
UID:e.554.4527
SEQUENCE:3
DTSTAMP:20260419T160941Z
URL:https://business.greaterlowellcc.org/events/details/customers-after-covid-19-restaurant-and-retail-recovery-strategies-4527
END:VEVENT

END:VCALENDAR
