BEGIN:VCALENDAR
VERSION:2.0
PRODID:-//ChamberMaster//Event Calendar 2.0//EN
METHOD:PUBLISH
X-PUBLISHED-TTL:P3D
REFRESH-INTERVAL:P3D
CALSCALE:GREGORIAN
BEGIN:VEVENT
DTSTART:20200407T140000Z
DTEND:20200407T153000Z
X-MICROSOFT-CDO-ALLDAYEVENT:FALSE
SUMMARY:Current Information on SBA Economic Relief for Small Businesses
DESCRIPTION:Given by the SBA\, this webinar will cover the newly offered Economic Injury Disaster Loan.
X-ALT-DESC;FMTTYPE=text/html:<span style="color:#000000\;"><span style="font-size:14px\;"><span style="font-family:arial\;"><strong style="color: rgb(0\, 0\, 128)\; font-family: Arial\, Helvetica\, sans-serif\; font-size: 12px\; background-color: rgb(246\, 246\, 246)\;"><span title="">Given by the SBA\, this webinar will cover the newly offered Economic Injury Disaster Loan.</span></strong></span></span></span>
LOCATION:
UID:e.554.4477
SEQUENCE:3
DTSTAMP:20260419T192333Z
URL:https://business.greaterlowellcc.org/events/details/current-information-on-sba-economic-relief-for-small-businesses-4477
END:VEVENT

END:VCALENDAR
