BEGIN:VCALENDAR
VERSION:2.0
PRODID:-//ChamberMaster//Event Calendar 2.0//EN
METHOD:PUBLISH
X-PUBLISHED-TTL:P3D
REFRESH-INTERVAL:P3D
CALSCALE:GREGORIAN
BEGIN:VEVENT
DTSTART:20200407T180000Z
DTEND:20200407T190000Z
X-MICROSOFT-CDO-ALLDAYEVENT:FALSE
SUMMARY:COVID-19 Webinar: How to Weather the Storm | 5 Steps businesses should take now (Insperity)
DESCRIPTION:Brought to you by Insperity\n\n\n\nTo help businesses navigate this unprecedented crisis\, this webinar covers 5 steps businesses should take right now!\n\n\n\nRegardless of the impact\, this crisis will have on your business\, changes will have to be made   Depending on which scenario you fall into...\n\n\n\nA) Survival (your business may not make it)\,\n\nB) Restructure (you'll make it but need to make hard decisions)\,\n\nor\n\nC) Strengthen (Your business will be ok\, but you should use this time to make it stronger)\n\n\n\nThese five steps will help you get to navigate the best route forward...
X-ALT-DESC;FMTTYPE=text/html:<span style="font-family:arial\;"><strong><span style="font-size:16px\;">Brought to you by <a href="https://solutions.insperity.com/wo/insperity/?pid=msnWO_Search-Branded&amp\;kw=insperity&amp\;msclkid=6edef2fed4811c2ccd6cac78e2066160&amp\;utm_source=bing&amp\;utm_medium=cpc&amp\;utm_campaign=WO%20-%20Search%20-%20Branded&amp\;utm_term=insperity&amp\;utm_content=Insperity%20-%20Exact">Insperity</a></span></strong><br />\n<br />\n<span style="color: rgb(43\, 55\, 77)\; font-size: 17px\; letter-spacing: -0.2px\;">To help businesses navigate this unprecedented crisis\, this webinar covers 5 steps businesses should take right now!</span><br style="box-sizing: border-box\; color: rgb(43\, 55\, 77)\; font-family: &quot\;Nunito Sans&quot\;\, sans-serif\; font-size: 17px\; letter-spacing: -0.2px\;" />\n<br style="box-sizing: border-box\; color: rgb(43\, 55\, 77)\; font-family: &quot\;Nunito Sans&quot\;\, sans-serif\; font-size: 17px\; letter-spacing: -0.2px\;" />\n<span style="color: rgb(43\, 55\, 77)\; font-size: 17px\; letter-spacing: -0.2px\;">Regardless of the impact\, this crisis will have on your business\, changes will have to be made &ndash\; Depending on which scenario you fall into...</span><br style="box-sizing: border-box\; color: rgb(43\, 55\, 77)\; font-family: &quot\;Nunito Sans&quot\;\, sans-serif\; font-size: 17px\; letter-spacing: -0.2px\;" />\n<br style="box-sizing: border-box\; color: rgb(43\, 55\, 77)\; font-family: &quot\;Nunito Sans&quot\;\, sans-serif\; font-size: 17px\; letter-spacing: -0.2px\;" />\n<span style="color: rgb(43\, 55\, 77)\; font-size: 17px\; letter-spacing: -0.2px\;">A) Survival (your business may not make it)\,</span><br style="box-sizing: border-box\; color: rgb(43\, 55\, 77)\; font-family: &quot\;Nunito Sans&quot\;\, sans-serif\; font-size: 17px\; letter-spacing: -0.2px\;" />\n<span style="color: rgb(43\, 55\, 77)\; font-size: 17px\; letter-spacing: -0.2px\;">B) Restructure (you&#39\;ll make it but need to make hard decisions)\,</span><br style="box-sizing: border-box\; color: rgb(43\, 55\, 77)\; font-family: &quot\;Nunito Sans&quot\;\, sans-serif\; font-size: 17px\; letter-spacing: -0.2px\;" />\n<span style="color: rgb(43\, 55\, 77)\; font-size: 17px\; letter-spacing: -0.2px\;">or</span><br style="box-sizing: border-box\; color: rgb(43\, 55\, 77)\; font-family: &quot\;Nunito Sans&quot\;\, sans-serif\; font-size: 17px\; letter-spacing: -0.2px\;" />\n<span style="color: rgb(43\, 55\, 77)\; font-size: 17px\; letter-spacing: -0.2px\;">C) Strengthen (Your business will be ok\, but you should use this time to make it stronger)</span><br style="box-sizing: border-box\; color: rgb(43\, 55\, 77)\; font-family: &quot\;Nunito Sans&quot\;\, sans-serif\; font-size: 17px\; letter-spacing: -0.2px\;" />\n<br style="box-sizing: border-box\; color: rgb(43\, 55\, 77)\; font-family: &quot\;Nunito Sans&quot\;\, sans-serif\; font-size: 17px\; letter-spacing: -0.2px\;" />\n<span style="color: rgb(43\, 55\, 77)\; font-size: 17px\; letter-spacing: -0.2px\;">These five steps will help you get to navigate the best route forward...</span></span>
LOCATION:
UID:e.554.4484
SEQUENCE:3
DTSTAMP:20260419T175143Z
URL:https://business.greaterlowellcc.org/events/details/covid-19-webinar-how-to-weather-the-storm-5-steps-businesses-should-take-now-insperity-4484
END:VEVENT

END:VCALENDAR
