BEGIN:VCALENDAR
VERSION:2.0
PRODID:-//ChamberMaster//Event Calendar 2.0//EN
METHOD:PUBLISH
X-PUBLISHED-TTL:P3D
REFRESH-INTERVAL:P3D
CALSCALE:GREGORIAN
BEGIN:VEVENT
DTSTART:20200515T190000Z
DTEND:20200515T201500Z
X-MICROSOFT-CDO-ALLDAYEVENT:FALSE
SUMMARY:Connect with our Local and State Leaders via Zoom
DESCRIPTION:Join us for our 2nd Zoom meeting hosted by the Chamber and Lowell City Councilor Sokhary Chau featuring State Senator Edward Kennedy and State Representatives David Nangle\, Tom Golden and Rady Mom! \n\n\n\nDanielle McFadden\, Councilor Chau\, State Senator Edward Kennedy\, State Representatives Tom Golden\, Rady Mom and David Nangle will answer your questions about resources available for businesses and individuals impacted by the COVID-19 pandemic and listen to your concerns.\n\n\n\nThis event is open to ANYONE in the community who is interested.
X-ALT-DESC;FMTTYPE=text/html:<span style="color: rgb(68\, 68\, 68)\; font-family: Arial\, Helvetica\, sans-serif\; font-size: 14px\;">Join us for our 2nd Zoom meeting hosted by the Chamber and Lowell City Councilor Sokhary Chau featuring State Senator Edward Kennedy and State Representatives David Nangle\, Tom Golden and Rady Mom!&nbsp\;<br />\n<br />\nDanielle McFadden\, Councilor Chau\, State Senator Edward Kennedy\, State Representatives Tom Golden\, Rady Mom and David Nangle will answer your questions about resources available for businesses and individuals impacted by the COVID-19 pandemic and listen to your concerns.</span><br />\n<br />\n<span style="color: rgb(68\, 68\, 68)\; font-family: Arial\, Helvetica\, sans-serif\; font-size: 14px\;">This event is open to ANYONE in the community who is interested.&nbsp\;</span>
LOCATION:The Zoom information will be available with registration.
UID:e.554.4538
SEQUENCE:3
DTSTAMP:20260419T173946Z
URL:https://business.greaterlowellcc.org/events/details/connect-with-our-local-and-state-leaders-via-zoom-4538
END:VEVENT

END:VCALENDAR
