BEGIN:VCALENDAR
VERSION:2.0
PRODID:-//ChamberMaster//Event Calendar 2.0//EN
METHOD:PUBLISH
X-PUBLISHED-TTL:P3D
REFRESH-INTERVAL:P3D
CALSCALE:GREGORIAN
BEGIN:VEVENT
DTSTART:20200415T170000Z
DTEND:20200415T180000Z
X-MICROSOFT-CDO-ALLDAYEVENT:FALSE
SUMMARY:Connect with our Local and State Leaders via Zoom
DESCRIPTION:Join us for a Zoom meeting hosted by the Chamber and Lowell City Councilor Sokhary Chau featuring State Senator Edward Kennedy\, State Representatives Tom Golden\, Rady Mom and David Nangle! \n\n\n\nDanielle McFadden\, Councilor Chau\, State Senator Edward Kennedy\, State Representatives Tom Golden\, Rady Mom and David Nangle will answer your questions about resources available for businesses and individuals impacted by the COVID-19 pandemic and listen to your concerns.\n\n\n\nPlease consider submitting your questions\, concerns\, feedback in advance by emailing Danielle at dmcfadden@greaterlowellchamber.org by Monday\, April 13th at 5pm.\n\n\n\nThis event is open to ANYONE in the community who is interested. Please invite your friends to attend on Facebook.
X-ALT-DESC;FMTTYPE=text/html:<span style="color: rgb(68\, 68\, 68)\; font-family: Arial\, Helvetica\, sans-serif\; font-size: 14px\;">Join us for a Zoom meeting hosted by the Chamber and Lowell City Councilor Sokhary Chau featuring State Senator Edward Kennedy\, State Representatives Tom Golden\, Rady Mom and David Nangle!&nbsp\;<br />\n<br />\nDanielle McFadden\, Councilor Chau\, State Senator Edward Kennedy\, State Representatives Tom Golden\, Rady Mom and David Nangle will answer your questions about resources available for businesses and individuals impacted by the COVID-19 pandemic and listen to your concerns.</span><br style="bottom: auto\; box-sizing: content-box\; clear: none\; color: rgb(68\, 68\, 68)\; content: normal\; direction: inherit\; display: inline\; empty-cells: show\; float: none\; font-variant-numeric: inherit\; font-variant-east-asian: inherit\; font-stretch: inherit\; font-size: 14px\; font-family: Arial\, Helvetica\, sans-serif\; left: auto\; line-height: inherit\; margin: 0px\; max-height: none\; max-width: none\; min-height: initial\; min-width: initial\; opacity: 1\; outline-offset: 0px\; overflow: visible\; padding: 0px\; position: static\; resize: none\; right: auto\; table-layout: auto\; text-overflow: clip\; top: auto\; vertical-align: baseline\; visibility: inherit\; word-break: inherit\; overflow-wrap: inherit\; z-index: auto\; background-image: none\; background-position: initial\; background-size: initial\; background-repeat: initial\; background-attachment: initial\; background-origin: initial\; background-clip: initial\; border: none\; border-collapse: separate\; border-radius: 0px\; height: auto\; width: auto\;" />\n<br style="bottom: auto\; box-sizing: content-box\; clear: none\; color: rgb(68\, 68\, 68)\; content: normal\; direction: inherit\; display: inline\; empty-cells: show\; float: none\; font-variant-numeric: inherit\; font-variant-east-asian: inherit\; font-stretch: inherit\; font-size: 14px\; font-family: Arial\, Helvetica\, sans-serif\; left: auto\; line-height: inherit\; margin: 0px\; max-height: none\; max-width: none\; min-height: initial\; min-width: initial\; opacity: 1\; outline-offset: 0px\; overflow: visible\; padding: 0px\; position: static\; resize: none\; right: auto\; table-layout: auto\; text-overflow: clip\; top: auto\; vertical-align: baseline\; visibility: inherit\; word-break: inherit\; overflow-wrap: inherit\; z-index: auto\; background-image: none\; background-position: initial\; background-size: initial\; background-repeat: initial\; background-attachment: initial\; background-origin: initial\; background-clip: initial\; border: none\; border-collapse: separate\; border-radius: 0px\; height: auto\; width: auto\;" />\n<span style="color: rgb(68\, 68\, 68)\; font-family: Arial\, Helvetica\, sans-serif\; font-size: 14px\;">Please consider submitting your questions\, concerns\, feedback in advance by emailing Danielle at&nbsp\;</span><a href="mailto:dmcfadden@greateriowellchamber.org?subject=ZOOM%20Call%20with%20State%20Rep%20Golden" style="text-decoration-line: none\; margin: 0px\; padding: 0px\; font-size: 14px\; vertical-align: baseline\; background-image: none\; background-position: initial\; background-size: initial\; background-repeat: initial\; background-attachment: initial\; background-origin: initial\; background-clip: initial\; color: rgb(0\, 61\, 126)\; bottom: auto\; box-sizing: content-box\; clear: none\; content: normal\; direction: inherit\; display: inline\; empty-cells: show\; float: none\; font-variant-numeric: inherit\; font-variant-east-asian: inherit\; font-stretch: inherit\; font-family: Arial\, Helvetica\, sans-serif\; left: auto\; line-height: inherit\; max-height: none\; max-width: none\; min-height: initial\; min-width: initial\; opacity: 1\; outline-offset: 0px\; overflow: visible\; position: static\; resize: none\; right: auto\; table-layout: auto\; text-overflow: clip\; top: auto\; visibility: inherit\; word-break: inherit\; overflow-wrap: break-word\; z-index: auto\; border: none\; border-collapse: separate\; border-radius: 0px\; height: auto\; width: auto\; box-shadow: none\;">dmcfadden@greaterlowellchamber.org</a><span style="color: rgb(68\, 68\, 68)\; font-family: Arial\, Helvetica\, sans-serif\; font-size: 14px\;">&nbsp\;by Monday\, April 13th at 5pm.<br />\n<br />\nThis event is open to ANYONE in the community who is interested. <a href="https://www.facebook.com/events/248365919887440/">Please invite your friends to attend on Facebook.</a></span>
LOCATION:The Zoom information will be sent out prior to the event.
UID:e.554.4489
SEQUENCE:3
DTSTAMP:20260419T192450Z
URL:https://business.greaterlowellcc.org/events/details/connect-with-our-local-and-state-leaders-via-zoom-4489
END:VEVENT

END:VCALENDAR
