BEGIN:VCALENDAR
VERSION:2.0
PRODID:-//ChamberMaster//Event Calendar 2.0//EN
METHOD:PUBLISH
X-PUBLISHED-TTL:P3D
REFRESH-INTERVAL:P3D
CALSCALE:GREGORIAN
BEGIN:VEVENT
DTSTART:20200407T200000Z
DTEND:20200407T210000Z
X-MICROSOFT-CDO-ALLDAYEVENT:FALSE
SUMMARY:Congresswoman Trahan's Children's Town Hall Live Event
DESCRIPTION:On April 7th Congresswoman Trahan will host her first Children's Town Hall Live Event - an opportunity for your kids to ask questions about the #coronavirus\, social distancing\, remote learning\, and more.
X-ALT-DESC;FMTTYPE=text/html:<div class="_xlr" style="padding: 0px 16px\; font-family: system-ui\, -apple-system\, system-ui\, &quot\;.SFNSText-Regular&quot\;\, sans-serif\; color: rgb(28\, 30\, 33)\;"><span aria-live="polite" class="fbPhotosPhotoCaption" data-ft="{&quot\;tn&quot\;:&quot\;K&quot\;}" id="fbPhotoSnowliftCaption" style="outline: none\; display: inline\; width: auto\; font-size: 14px\; line-height: 18px\; font-family: inherit\;" tabindex="0"><span class="hasCaption" style="font-family: inherit\;">On April 7th Congresswoman Trahan&nbsp\;will host her&nbsp\;first Children&#39\;s Town Hall Live Event - an opportunity for your kids to ask questions about the&nbsp\;<a class="_58cn" data-ft="{&quot\;type&quot\;:104\,&quot\;tn&quot\;:&quot\;*N&quot\;}" href="https://www.facebook.com/hashtag/coronavirus?epa=HASHTAG" style="color: rgb(56\, 88\, 152)\; cursor: pointer\; text-decoration-line: none\; font-family: inherit\;">#coronavirus</a>\, social distancing\, remote learning\, and more.</span></span></div>\n
LOCATION:
UID:e.554.4492
SEQUENCE:3
DTSTAMP:20260419T193239Z
URL:https://business.greaterlowellcc.org/events/details/congresswoman-trahan-s-children-s-town-hall-live-event-4492
END:VEVENT

END:VCALENDAR
