BEGIN:VCALENDAR
VERSION:2.0
PRODID:-//ChamberMaster//Event Calendar 2.0//EN
METHOD:PUBLISH
X-PUBLISHED-TTL:P3D
REFRESH-INTERVAL:P3D
CALSCALE:GREGORIAN
BEGIN:VEVENT
DTSTART:20200331T210000Z
DTEND:20200331T220000Z
X-MICROSOFT-CDO-ALLDAYEVENT:FALSE
SUMMARY:Congressman Moulton Virtual Small Business Forum
DESCRIPTION:The CARES Act\, passed last Friday\, earmarks $350 billion dollars for our nation's small businesses\, all of which are struggling with immediate decisions about how to make rent\, what to do about their employees\, and which bills to pay.\n\n \n\nTomorrow\, Tuesday\, March 31st at 5 PM\, Congressman Moulton and Massachusetts SBA Director Bob Nelson will host a Small Business Forum on Facebook. This forum will detail the programs that were created to help small businesses and instruct them on how they can apply for assistance. \n\n \n\nPlease share this important information widely via email and social media.\n\n \n\nRSVP for our Tuesday Small Business Facebook Live event here: \n\nhttps://www.facebook.com/events/504669280409528/\n\n \n\nDownload their comprehensive resource guide here: https://moulton.house.gov/imo/media/doc/smallbiz.pdf
X-ALT-DESC;FMTTYPE=text/html:<div style="color: rgb(66\, 56\, 55)\; font-family: Georgia\, &quot\;Times New Roman&quot\;\, Times\, serif\; font-size: 14px\; background-color: rgb(69\, 179\, 202)\;"><span style="font-size: 18px\; color: rgb(255\, 255\, 255)\;">The CARES Act\, passed last Friday\, earmarks $350 billion dollars for our nation&rsquo\;s small businesses\, all of which are struggling with immediate decisions about how to make rent\, what to do about their employees\, and which bills to pay.</span></div>\n\n<div style="color: rgb(66\, 56\, 55)\; font-family: Georgia\, &quot\;Times New Roman&quot\;\, Times\, serif\; font-size: 14px\; background-color: rgb(69\, 179\, 202)\;"><span style="font-size: 18px\; color: rgb(255\, 255\, 255)\;">&nbsp\;</span></div>\n\n<div style="color: rgb(66\, 56\, 55)\; font-family: Georgia\, &quot\;Times New Roman&quot\;\, Times\, serif\; font-size: 14px\; background-color: rgb(69\, 179\, 202)\;"><span style="font-size: 18px\; color: rgb(255\, 255\, 255)\;">Tomorrow\, Tuesday\, March 31st at 5 PM\, Congressman Moulton and Massachusetts SBA Director Bob Nelson will host a&nbsp\;</span><a href="https://www.facebook.com/events/504669280409528/" style="font-size: 18px\; color: rgb(255\, 255\, 255)\;" target="_blank">Small Business Forum on Facebook</a><span style="font-size: 18px\; color: rgb(255\, 255\, 255)\;">.&nbsp\;This forum will detail the programs that were created to help small businesses and instruct them on how they can apply for assistance.&nbsp\;</span></div>\n\n<div style="color: rgb(66\, 56\, 55)\; font-family: Georgia\, &quot\;Times New Roman&quot\;\, Times\, serif\; font-size: 14px\; background-color: rgb(69\, 179\, 202)\;"><span style="font-size: 18px\; color: rgb(255\, 255\, 255)\;">&nbsp\;</span></div>\n\n<div style="color: rgb(66\, 56\, 55)\; font-family: Georgia\, &quot\;Times New Roman&quot\;\, Times\, serif\; font-size: 14px\; background-color: rgb(69\, 179\, 202)\;"><span style="font-size: 18px\; color: rgb(255\, 255\, 255)\;">Please share this important information widely via email and social media.</span></div>\n\n<div style="color: rgb(66\, 56\, 55)\; font-family: Georgia\, &quot\;Times New Roman&quot\;\, Times\, serif\; font-size: 14px\; background-color: rgb(69\, 179\, 202)\;"><span style="font-size: 18px\; color: rgb(255\, 255\, 255)\;">&nbsp\;</span></div>\n\n<div style="color: rgb(66\, 56\, 55)\; font-family: Georgia\, &quot\;Times New Roman&quot\;\, Times\, serif\; font-size: 14px\; background-color: rgb(69\, 179\, 202)\;"><span style="font-size: 18px\; color: rgb(255\, 255\, 255)\;">RSVP for our Tuesday Small Business Facebook Live event here:&nbsp\;</span></div>\n\n<div style="color: rgb(66\, 56\, 55)\; font-family: Georgia\, &quot\;Times New Roman&quot\;\, Times\, serif\; font-size: 14px\; background-color: rgb(69\, 179\, 202)\;"><a href="https://www.facebook.com/events/504669280409528/" style="font-size: 18px\; color: rgb(255\, 255\, 255)\;" target="_blank">https://www.facebook.com/events/504669280409528/</a></div>\n\n<div style="color: rgb(66\, 56\, 55)\; font-family: Georgia\, &quot\;Times New Roman&quot\;\, Times\, serif\; font-size: 14px\; background-color: rgb(69\, 179\, 202)\;">&nbsp\;</div>\n\n<div style="color: rgb(66\, 56\, 55)\; font-family: Georgia\, &quot\;Times New Roman&quot\;\, Times\, serif\; font-size: 14px\; background-color: rgb(69\, 179\, 202)\;"><span style="font-size: 18px\; color: rgb(255\, 255\, 255)\;">Download their comprehensive resource guide here:&nbsp\;</span><a href="https://moulton.house.gov/imo/media/doc/smallbiz.pdf" style="font-size: 18px\; color: rgb(255\, 255\, 255)\;" target="_blank">https://moulton.house.gov/imo/media/doc/smallbiz.pdf</a></div>\n
LOCATION:
UID:e.554.4472
SEQUENCE:3
DTSTAMP:20260419T192455Z
URL:https://business.greaterlowellcc.org/events/details/congressman-moulton-virtual-small-business-forum-4472
END:VEVENT

END:VCALENDAR
