BEGIN:VCALENDAR
VERSION:2.0
PRODID:-//ChamberMaster//Event Calendar 2.0//EN
METHOD:PUBLISH
X-PUBLISHED-TTL:P3D
REFRESH-INTERVAL:P3D
CALSCALE:GREGORIAN
BEGIN:VEVENT
DTSTART:20200416T003000Z
DTEND:20200416T013000Z
X-MICROSOFT-CDO-ALLDAYEVENT:FALSE
SUMMARY:Chamber Night School: Hashing Out Hashtags
DESCRIPTION:Join our President\, Danielle McFadden\, for night school! Danielle will cover various topics from Social Media to Networking to Marketing. And since we'll all be in the comfort of our homes feel free to wear your PJs and have a cocktail by your side - no judgment here! All Chamber Night School (CNS) classes will be recorded and shared on our Facebook and YouTube pages.\n\n\n\nThis week's CNS topic is Hashing Out Hashtags! Learn what a hashtag is\, how hashtags should be used on various social media sites and hashtag tips and hacks!\n\n\n\n*** Chamber Night School is open to ANYONE who wants to learn a new skill! *** Here's the Facebook event page - please invite your friends!
X-ALT-DESC;FMTTYPE=text/html:Join our President\, Danielle McFadden\, for night school! Danielle will cover various topics from Social Media to Networking to Marketing. And since we&#39\;ll all be in the comfort of our homes feel free to wear your PJs and have a cocktail by your side - no judgment here! All Chamber Night School (CNS) classes will be recorded and shared on our Facebook and YouTube pages.<br />\n<br />\nThis week&#39\;s CNS topic is <strong>Hashing Out Hashtags</strong>! Learn what a hashtag is\, how hashtags should be used on various social media sites and hashtag tips and hacks!<br />\n<br />\n<span style="color: rgb(28\, 30\, 33)\; font-family: system-ui\, -apple-system\, system-ui\, &quot\;.SFNSText-Regular&quot\;\, sans-serif\; font-size: 12px\; white-space: pre-wrap\;">*** Chamber Night School is open to ANYONE who wants to learn a new skill! *** <a href="https://www.facebook.com/events/589173358347702/">Here&#39\;s the Facebook event page - please invite your friends! </a></span>
LOCATION:
UID:e.554.4498
SEQUENCE:3
DTSTAMP:20260419T191635Z
URL:https://business.greaterlowellcc.org/events/details/chamber-night-school-hashing-out-hashtags-4498
END:VEVENT

END:VCALENDAR
