BEGIN:VCALENDAR
VERSION:2.0
PRODID:-//ChamberMaster//Event Calendar 2.0//EN
METHOD:PUBLISH
X-PUBLISHED-TTL:P3D
REFRESH-INTERVAL:P3D
CALSCALE:GREGORIAN
BEGIN:VEVENT
DTSTART:20200423T003000Z
DTEND:20200423T013000Z
X-MICROSOFT-CDO-ALLDAYEVENT:FALSE
SUMMARY:Chamber Night School: Connecting During a Time of Physical Distancing
DESCRIPTION:Event was cancelled due to low enrollment. Danielle recorded the presentation for you to view at your own leisure. Here's the link! \n\n\n\nJoin our President\, Danielle McFadden\, for night school! Danielle will cover various topics from Social Media to Networking to Marketing. And since we'll all be in the comfort of our homes feel free to wear your PJs and have a cocktail by your side - no judgment here! All Chamber Night School (CNS) classes will be recorded and shared on our Facebook and YouTube pages.\n\n\n\nThis week's CNS topic is Connecting During a Time of Physical Distancing. Learn ways people are using social media and technology while sheltering the place including how to stay top of mind with your clients!\n\n\n\n*** Chamber Night School is open to ANYONE who wants to learn a new skill! *** Here's the Facebook event page\, please invite your friends!
X-ALT-DESC;FMTTYPE=text/html:Event was cancelled due to low enrollment. Danielle recorded the presentation for you to view at your own leisure. <a href="https://youtu.be/-KDDiMDu4Gc">Here&#39\;s the link!&nbsp\;</a><br />\n<br />\nJoin our President\, Danielle McFadden\, for night school! Danielle will cover various topics from Social Media to Networking to Marketing. And since we&#39\;ll all be in the comfort of our homes feel free to wear your PJs and have a cocktail by your side - no judgment here! All Chamber Night School (CNS) classes will be recorded and shared on our Facebook and YouTube pages.<br />\n<br />\nThis week&#39\;s CNS topic is Connecting During a Time of Physical Distancing.&nbsp\;Learn ways people are using social media and technology while sheltering the place including how to stay top of mind with your clients!<br />\n<br />\n<span style="color: rgb(28\, 30\, 33)\; font-family: system-ui\, -apple-system\, system-ui\, &quot\;.SFNSText-Regular&quot\;\, sans-serif\; font-size: 12px\; white-space: pre-wrap\;">*** Chamber Night School is open to ANYONE who wants to learn a new skill! *** <a href="https://www.facebook.com/events/237825247595638/">Here&#39\;s the Facebook event page\, please invite your friends!</a></span>
LOCATION:
UID:e.554.4499
SEQUENCE:3
DTSTAMP:20260419T174706Z
URL:https://business.greaterlowellcc.org/events/details/chamber-night-school-connecting-during-a-time-of-physical-distancing-4499
END:VEVENT

END:VCALENDAR
