BEGIN:VCALENDAR
VERSION:2.0
PRODID:-//ChamberMaster//Event Calendar 2.0//EN
METHOD:PUBLISH
X-PUBLISHED-TTL:P3D
REFRESH-INTERVAL:P3D
CALSCALE:GREGORIAN
BEGIN:VEVENT
DTSTART:20200609T123000Z
DTEND:20200609T140000Z
X-MICROSOFT-CDO-ALLDAYEVENT:FALSE
SUMMARY:Chamber EDGE: Now\, it's YOUR Turn
DESCRIPTION:The Chamber EDGE is a self-directed group with a mission to focus on networking\, education and relationship building. The group is comprised of Chamber members who are experts in their field and exhibit a willingness to educate\, discuss\, grow and engage with their peers. The Chamber Open EDGE meets on the second Tuesday of the month from 8:30am-10:00am (unless otherwise noted on the Chamber event calendar).\n\n\n\nTopic: Now\, it's YOUR Turn\n\n \nWe are going to use the June EDGE Meeting to hear directly from you about the topics that you want to hear about in the future. The pandemic has meant that a lot of sources have pushed a lot of information to small business people over the last few months and we want to hear from you in terms of what would be most useful to discuss in the upcoming months. Please give some time to thinking what you'd like to hear about. It's likely the same thing that would interest others.
X-ALT-DESC;FMTTYPE=text/html:<div style="margin: 0px\; padding: 0px\; border: 0px\; font-variant-numeric: inherit\; font-variant-east-asian: inherit\; font-stretch: inherit\; font-size: 15px\; line-height: inherit\; font-family: &quot\;Segoe UI&quot\;\, &quot\;Segoe UI Web (West European)&quot\;\, &quot\;Segoe UI&quot\;\, -apple-system\, system-ui\, Roboto\, &quot\;Helvetica Neue&quot\;\, sans-serif\; vertical-align: baseline\; color: rgb(32\, 31\, 30)\;"><span style="font-family: arial\; font-size: 14px\;">The Chamber EDGE is a self-directed group with a mission to focus on networking\, education and relationship building. The group is comprised of Chamber members who are experts in their field and exhibit a willingness to educate\, discuss\, grow and engage with their peers. The Chamber Open EDGE meets on the second&nbsp\;Tuesday of the month from 8:30am-10:00am (unless otherwise noted on the Chamber event calendar).</span><br style="font-family: arial\; font-size: 14px\;" />\n<br style="font-family: arial\; font-size: 14px\;" />\n<strong style="font-family: arial\; font-size: 14px\;">Topic:</strong><span style="font-family: arial\; font-size: 14px\;">&nbsp\;</span>Now\, it&#39\;s YOUR Turn<br />\n&nbsp\;\n<div style="margin: 0px\; padding: 0px\; border: 0px\; font-variant-numeric: inherit\; font-variant-east-asian: inherit\; font-stretch: inherit\; font-size: 15px\; line-height: inherit\; font-family: &quot\;Segoe UI&quot\;\, &quot\;Segoe UI Web (West European)&quot\;\, &quot\;Segoe UI&quot\;\, -apple-system\, system-ui\, Roboto\, &quot\;Helvetica Neue&quot\;\, sans-serif\; vertical-align: baseline\; color: rgb(32\, 31\, 30)\;">We are going to use the June EDGE Meeting to hear directly&nbsp\;from you about the topics that you want to hear about in the future. The pandemic has meant that a lot of sources have pushed a lot of information to small business people over the last few months and we want to hear from you in terms of what would be most useful to discuss in the upcoming months. Please give&nbsp\;some time to thinking what you&#39\;d like to hear about. It&#39\;s likely the same thing that would interest others.</div>\n</div>\n
LOCATION:
UID:e.554.4557
SEQUENCE:3
DTSTAMP:20260419T141145Z
URL:https://business.greaterlowellcc.org/events/details/chamber-edge-now-it-s-your-turn-4557
END:VEVENT

END:VCALENDAR
