BEGIN:VCALENDAR
VERSION:2.0
PRODID:-//ChamberMaster//Event Calendar 2.0//EN
METHOD:PUBLISH
X-PUBLISHED-TTL:P3D
REFRESH-INTERVAL:P3D
CALSCALE:GREGORIAN
BEGIN:VEVENT
DTSTART:20200310T123000Z
DTEND:20200310T140000Z
X-MICROSOFT-CDO-ALLDAYEVENT:FALSE
SUMMARY:Chamber Edge
DESCRIPTION:The Chamber EDGE is a self-directed group with a mission to focus on networking\, education and relationship building. The group is comprised of Chamber members who are experts in their field and exhibit a willingness to educate\, discuss\, grow and engage with their peers. The Chamber Open EDGE meets on the second Tuesday of the month at the 110 Grill in Chelmsford from 8:30am-10:00am (unless otherwise noted on the Chamber event calendar).\n\n\n\nTopic: Business Applications and Tools to Help Small Businesses with Productivity\, Process Development\, and Automation\n\n\n\nModerator: Brian Bahia\, Stellar Web Studios
X-ALT-DESC;FMTTYPE=text/html:<span style="font-size:14px\;"><span style="font-family:arial\;">The Chamber EDGE is a self-directed group with a mission to focus on networking\, education and relationship building. The group is comprised of Chamber members who are experts in their field and exhibit a willingness to educate\, discuss\, grow and engage with their peers. The Chamber Open EDGE meets on the second&nbsp\;Tuesday of the month at the 110 Grill in Chelmsford from 8:30am-10:00am (unless otherwise noted on the Chamber event calendar).<br />\n<br />\n<strong>Topic: </strong>Business Applications and Tools to Help Small Businesses with Productivity\, Process Development\, and Automation</span></span><br />\n<br />\n<span style="font-size:14px\;"><span style="font-family:arial\;"><strong>Moderator</strong>: Brian Bahia\, Stellar Web Studios</span></span>
LOCATION:110 Grill 116 Chelmsford Street Chelmsford\, MA
UID:e.554.4442
SEQUENCE:3
DTSTAMP:20260419T204612Z
URL:https://business.greaterlowellcc.org/events/details/chamber-edge-4442
END:VEVENT

END:VCALENDAR
